Workbook
Name accion: BBDD!$C$2:$C$5
Name dependencia: [1]bd!$E$3:$E$45
Name eficacia: BBDD!$H$2:$H$3
Name ehallazgo: BBDD!$G$2:$G$3
Name estadoaccion: BBDD!$F$2:$F$5
Name hallazgo: BBDD!$B$2:$B$4
Name modifica: BBDD!$E$2:$E$3
Name Origen: BBDD!$A$2:$A$17
Name proceso: BBDD!$D$2:$D$19
Name tipo_accion: [1]bd!$F$3:$F$5
Name ubicacion_origen: [1]bd!$D$3:$D$72
Name valida: [1]bd!$H$3:$H$4

Sheet Hallazgos
A3: Cuenta de Tipo de hallazgo | B3: Etiquetas de columna
A4: Etiquetas de fila | B4: No conformidad | C4: Observación | D4: Oportunidad de Mejora | E4: Total general
A5: Auditoria Interna Gestion XXXXX 2019 | B5: 2 | E5: 2
A6: Gestión de Comunicaciones | B6: 1 | E6: 1
A7: Planeación Estratégica | B7: 1 | E7: 1
A8: Auditoria Interna Gestion 2 2019 | C8: 1 | E8: 1
A9: Gestión Análisis y mejora continua | C9: 1 | E9: 1
A10: Auditoria Interna Gestion 3 2019 | B10: 1 | D10: 1 | E10: 2
A11: Gestión de Cooperación Internacional y Alianzas Estratégicas | D11: 1 | E11: 1
A12: Gestión de atención al usuario | B12: 1 | E12: 1
A13: Total general | B13: 3 | C13: 1 | D13: 1 | E13: 5
A17: Cuenta de 1. Estado de la acción Vencida-Sin Iniciar….. | B17: Etiquetas de columna
A18: Etiquetas de fila | B18: Cumplida | C18: En Avance | D18: Sin iniciar | E18: Vencida | F18: Total general
A19: Auditoria Interna Gestion XXXXX 2019 | B19: 1 | C19: 1 | F19: 2
A20: Gestión de Comunicaciones | C20: 1 | F20: 1
A21: Planeación Estratégica | B21: 1 | F21: 1
A22: Auditoria Interna Gestion 2 2019 | E22: 1 | F22: 1
A23: Gestión Análisis y mejora continua | E23: 1 | F23: 1
A24: Auditoria Interna Gestion 3 2019 | B24: 1 | D24: 1 | F24: 2
A25: Gestión de Cooperación Internacional y Alianzas Estratégicas | D25: 1 | F25: 1
A26: Gestión de atención al usuario | B26: 1 | F26: 1
A27: Total general | B27: 2 | C27: 1 | D27: 1 | E27: 1 | F27: 5

Sheet PLAN DE MEJORAMIENTO
H1: DIRECCIÓN NACIONAL BOMBEROS COLOMBIA | BV1: CODIGO | BY1: FO-MC-02-01
H3: FORMATO FORMULACIÓN, MONITOREO, SEGUIMIENTO y EVALUACIÓN A PLANES DE MEJORAMIENTO INTERNOS Y EXTERNOS | BV3: VERSIÓN | BY3: 3
BV4: VIGENCIA | BY4: 46084
A6: FORMULACIÓN | U6: C | AI6: SEGUNDO TRIMESTRE | AY6: TERCER TRIMESTRE | BO6: CUARTO TRIMESTRE
U7: SEGUIMIENTO PRIMERA LÍNEA DE DEFENSA | X7: SEGUIMIENTO SEGUNDA LÍNEA DE DEFENSA | AB7: SEGUIMIENTO TERCERA LÍNEA DE DEFENSA | AI7: SEGUIMIENTO PRIMERA LÍNEA DE DEFENSA | AL7: SEGUIMIENTO SEGUNDA LÍNEA DE DEFENSA | AP7: SEGUIMIENTO TERCERA LÍNEA DE DEFENSA | AY7: SEGUIMIENTO PRIMERA LÍNEA DE DEFENSA | BB7: SEGUIMIENTO SEGUNDA LÍNEA DE DEFENSA | BF7: SEGUIMIENTO TERCERA LÍNEA DE DEFENSA | BO7: SEGUIMIENTO PRIMERA LÍNEA DE DEFENSA | BR7: SEGUIMIENTO SEGUNDA LÍNEA DE DEFENSA | BV7: SEGUIMIENTO TERCERA LÍNEA DE DEFENSA
A8: NÚMERO DE HALLAZGOS | B8: TIPO DE AUDITORIA | C8: VIGENCIA | D8: DEPENDENCIA | E8: TEMA | F8: CÓDIGO DE HALLAZGO | G8: DESCRIPCIÓN DEL HALLAZGO | H8: POLÍTICA MIPG IMPACTADA | I8: ANALISIS DE CAUSAS | J8: CAUSA RAÍZ DEL HALLAZGO | K8: acción correctiva | L8: COD ACTIVIDAD | M8: ACTIVIDADES/DESCRIPCIÓN | N8: UNIDAD DE MEDIDA | O8: CANTIDAD / UNIDAD DE MEDIDA | P8: FECHA DE INICIO | Q8: FECHA DE FINALIZACIÓN | R8: ACTIVIDADES/PLAZO EN SEMANAS | S8: RESPONSABLE / PROCESO | T8: OBSERVACIONES | U8: 1. Avance físico de ejecución | V8: 1. Descripción de evidencias o soportes ejecución | W8: 1. Evidencias LINK | X8: 2. Fecha del seguimiento | Y8: 2. Descripción seguimiento evidencia | Z8: 2. % Avance | AA8: 2. EFICACIA | AB8: 3. Fecha de Seguimiento | AC8: 3. Avance físico de ejecución | AD8: 3. Observaciones | AE8: 3. Estado de Oportunidad | AF8: EFECTIVIDAD | AG8: ESTADO | AH8: OBSERVACIONES | AI8: 1. Avance físico de ejecución | AJ8: 1. Descripción de evidencias o soportes ejecución | AK8: 1. Evidencias LINK | AL8: 2. Fecha del seguimiento | AM8: 2. Descripción seguimiento evidencia | AN8: 2. % Avance | AO8: 2. EFICACIA | AP8: 3. Fecha de Seguimiento | AQ8: 3. Avance físico de ejecución | AR8: 3. Observaciones | AS8: 3. Estado de Oportunidad | AT8: EFECTIVIDAD | AU8: ESTADO | AW8: OBSERVACIONES | AY8: 1. Avance físico de ejecución | AZ8: 1. Descripción de evidencias o soportes ejecución | BA8: 1. Evidencias LINK | BB8: 2. Fecha del seguimiento | BC8: 2. Descripción seguimiento evidencia | BD8: 2. % Avance | BE8: 2. EFICACIA | BF8: 3. Fecha de Seguimiento | BG8: 3. Avance físico de ejecución | BH8: 3. Observaciones | BI8: 3. Estado de Oportunidad | BJ8: EFECTIVIDAD | BK8: ESTADO | BM8: OBSERVACIONES | BO8: 1. Avance físico de ejecución | BP8: 1. Descripción de evidencias o soportes ejecución | BQ8: 1. Evidencias LINK | BR8: 2. Fecha del seguimiento | BS8: 2. Descripción seguimiento evidencia | BT8: 2. % Avance | BU8: 2. EFICACIA | BV8: 3. Fecha de Seguimiento | BW8: 3. Avance físico de ejecución | BX8: 3. Observaciones | BY8: 3. Estado de Oportunidad | BZ8: EFECTIVIDAD | CA8: ESTADO | CC8: OBSERVACIONES
A9: 1 | B9: Auditoría interna | C9: 2018 | D9: Subdirección Administrativa y Financiera | F9: 2018_GA_H1 | G9: A pesar de establecer un sistema de control en la información de los inventarios a través del Excel, se encontró que no se cuenta con mecanismos de control necesario como es (Software de inventarios) que garanticen la contabilización y confiabilidad de la información recibida y generada, para el ingreso, entrega y actualización de inventario. Se evidencia que se estableció la Compra de Software de inventario, el en el Plan Anual de Adquisiciones de este año, por valor de $ 80.000.000, el cual a la fecha no se ha comprado por falta de recursos en la DNBC. Teniendo en cuenta lo anterior, el proceso de gestión administrativa, afirma que personal encargado del almacén diseñó una base de datos que permite la contabilización de la información recibida y generada, para el ingreso, entrega y actualización de inventario, así mismo informan que el día 14 de octubre de 2016 se actualizó el Plan Anual de Adquisiciones y se retiró del mismo la adquisición del Software de inventarios ya que no se cuenta con presupuesto disponible para su compra. No se posee un Programa Sistemático de Inventarios, que lleve un adecuado control, tanto de entradas como salidas de elementos. Asimismo, que permita de manera inmediata reflejar cantidades, valores unitarios, totales y el centro de costo (ubicación) del bien. | I9: 1er Por qué: Por el tiempo que lleva de creada la institución no se requería de un software para este tipo de control. 2do Por qué: No se tenía una gran cantidad de inventarios para administrar. 3er Por qué: No se habían asignado recursos para la adquisición de este software, porque debido a las medidas de sostenibilidad fiscal, se recortaron recursos a las entidades del Estado. | J9: La institución era pequeña y no se había evidenciado la necesidad de esta adquisición. | K9: Acción correctiva | L9: GA_AC01 | M9: Implementación modulo de Inventario de SIIF Nación | N9: Modulo Implementado | O9: 1 | P9: 46082 | Q9: 46387 | R9: =DAYS360(P9,Q9)/360*54 -> 45 | S9: 14. Gestión Administrativa / 13. Gestión Financiera | T9: Revisar Tema con Financiera | U9: =+IFERROR(VLOOKUP($L9,ACTIVIDADES!$B$9:$X$493,10,0),"") -> 1 | V9: =+IFERROR(VLOOKUP($L9,ACTIVIDADES!$B$9:$X$493,11,0)," ") -> Se esta manejando una prueba piloto SIIF NACIÓN | W9: =+IFERROR(VLOOKUP($L9,ACTIVIDADES!$B$9:$X$493,12,0),"") -> https://dnbcgovco-my.sharepoint.com/:f:/g/personal/planeacion_dnbc_gov_co/IgCKsvM4H_KTR6xnllTYAW4KAYnPCAelO_DLpgStTfwUj-M?e=KcFs8q | X9: =+IFERROR(VLOOKUP($L9,ACTIVIDADES!$B$9:$X$493,13,0),"") -> 46153 | Y9: =+IFERROR(VLOOKUP($L9,ACTIVIDADES!$B$9:$X$493,14,0),"") -> Se evidencia respuesta de MinHacienda para uso piloto de sistema Siif Nación - Modulo Recursos Fisicos | Z9: =+IFERROR(VLOOKUP($L9,ACTIVIDADES!$B$9:$X$493,15,0),"") -> 0.1 | AA9: =+IFERROR(VLOOKUP($L9,ACTIVIDADES!$B$9:$X$493,16,0),"") -> EJECUCIÓN | AB9: 46171 | AC9: 0.1 | AD9: Se evidenció correo electronioco de fecha 03/02/2026 donde gestion financiera solicita al ministerio de hecienda y credito publico un modulo de gestion de recursos fisicos, y mediante el cual se recibe respueta con fecha 20/02/2026 para iniciar una prueba piloto | AE9: C. EXTRATEMPORANEAMENTE | AF9: No aplica | AG9: No aplica | AH9: No aplica | AO9: EJECUCIÓN | AS9: SIN INICIAR | AT9: EFECTIVO | AU9: ABIERTO | BE9: EJECUCIÓN | BI9: SIN INICIAR | BJ9: EFECTIVO | BK9: ABIERTO | BU9: EJECUCIÓN | BY9: SIN INICIAR | BZ9: EFECTIVO | CA9: ABIERTO
A10: =+A9+1 -> 2 | B10: Auditoría interna | C10: 2019 | D10: Subdirección Administrativa y Financiera | F10: 2019_AD_H1 | G10: Aunque se han diseñado programas de mantenimiento preventivo para instalaciones, equipos y vehículos, éstos no se han ejecutado a la fecha, incumpliendo lo establecido en el ítem Mantenimiento periódico de instalaciones, equipos, máquinas, herramientas, del Artículo 16, Resolución 312 de 2019, además corriendo el riesgo de daño de los vehículos, entre otros y conllevando a mantenimientos correctivos, lo cual podría generar un incremento en los costos para la DNBC. | I10: Dificultades en el establecimiento oportuno de contratación de los programas de mantenimiento y personal para ejecución de los mismos. Pues estos dependen de la aprobación de recursos y programas en JNB, para su posterior ejecución presupuestal y contratación. | J10: Dificultades en el establecimiento oportuno de contratación de los programas de mantenimiento y personal para ejecución de los mismos. Pues estos dependen de la aprobación de recursos y programas en JNB, para su posterior ejecución presupuestal y contratación. | K10: Acción correctiva | L10: GA_AC02 | M10: Elaborar manual o instructivo o procedimiento sobre las actividades que se deben desarrollar para el mantenimiento preventivo y correctivo de los bienes a cargo de la entidad | N10: Documento elaborado | O10: 1 | P10: 46143 | Q10: 46295 | R10: =DAYS360(P10,Q10)/360*54 -> 22.35 | S10: 14. Gestión Administrativa | U10: =+IFERROR(VLOOKUP($L10,ACTIVIDADES!$B$9:$X$493,10,0),"") -> 0 | V10: =+IFERROR(VLOOKUP($L10,ACTIVIDADES!$B$9:$X$493,11,0)," ") -> En proceso de elaboración | W10: =+IFERROR(VLOOKUP($L10,ACTIVIDADES!$B$9:$X$493,12,0),"") -> https://dnbcgovco-my.sharepoint.com/:f:/g/personal/planeacion_dnbc_gov_co/IgD_grekOtWqQqtlM5-uKNzKAXw_t2tystb5VgPWhpKqINg?e=7IgzFu | X10: =+IFERROR(VLOOKUP($L10,ACTIVIDADES!$B$9:$X$493,13,0),"") -> 46153 | Y10: =+IFERROR(VLOOKUP($L10,ACTIVIDADES!$B$9:$X$493,14,0),"") -> No se evidencia avance para el periodo | Z10: =+IFERROR(VLOOKUP($L10,ACTIVIDADES!$B$9:$X$493,15,0),"") -> 0 | AA10: =+IFERROR(VLOOKUP($L10,ACTIVIDADES!$B$9:$X$493,16,0),"") -> EJECUCIÓN | AB10: 46170 | AC10: 0 | AD10: No fue posible identificar evidencias para el presente período de análisis | AE10: SIN INICIAR | AF10: No aplica | AG10: No aplica | AH10: No aplica
A11: =+A10+1 -> 3 | B11: Auditoría interna | C11: 2019 | D11: Subdirección Administrativa y Financiera | F11: 2019_AD_H1 | G11: Aunque se han diseñado programas de mantenimiento preventivo para instalaciones, equipos y vehículos, éstos no se han ejecutado a la fecha, incumpliendo lo establecido en el ítem Mantenimiento periódico de instalaciones, equipos, máquinas, herramientas, del Artículo 16, Resolución 312 de 2019, además corriendo el riesgo de daño de los vehículos, entre otros y conllevando a mantenimientos correctivos, lo cual podría generar un incremento en los costos para la DNBC. | I11: Dificultades en el establecimiento oportuno de contratación de los programas de mantenimiento y personal para ejecución de los mismos. Pues estos dependen de la aprobación de recursos y programas en JNB, para su posterior ejecución presupuestal y contratación. | J11: Dificultades en el establecimiento oportuno de contratación de los programas de mantenimiento y personal para ejecución de los mismos. Pues estos dependen de la aprobación de recursos y programas en JNB, para su posterior ejecución presupuestal y contratación. | K11: Acción correctiva | L11: GA_AC03 | M11: Elaborar y Ejecutar plan o programa de mantenimiento exigidos por la norma. | N11: Plan o programa de mantenimiento ejecutado | O11: 1 | P11: 46143 | Q11: 46387 | R11: =DAYS360(P11,Q11)/360*54 -> 36 | S11: 14. Gestión Administrativa | U11: =+IFERROR(VLOOKUP($L11,ACTIVIDADES!$B$9:$X$493,10,0),"") -> 0 | V11: =+IFERROR(VLOOKUP($L11,ACTIVIDADES!$B$9:$X$493,11,0)," ") -> En proceso de elaboración | W11: =+IFERROR(VLOOKUP($L11,ACTIVIDADES!$B$9:$X$493,12,0),"") -> https://dnbcgovco-my.sharepoint.com/:f:/g/personal/planeacion_dnbc_gov_co/IgCHix03hdsORJdFzXwbKzzkAYCwKvT-WMSbymO7s_ZNdBo?e=tzOHt9 | X11: =+IFERROR(VLOOKUP($L11,ACTIVIDADES!$B$9:$X$493,13,0),"") -> 46153 | Y11: =+IFERROR(VLOOKUP($L11,ACTIVIDADES!$B$9:$X$493,14,0),"") -> No se evidencia avance para el periodo | Z11: =+IFERROR(VLOOKUP($L11,ACTIVIDADES!$B$9:$X$493,15,0),"") -> 0 | AA11: =+IFERROR(VLOOKUP($L11,ACTIVIDADES!$B$9:$X$493,16,0),"") -> EJECUCIÓN | AB11: 46170 | AC11: 0 | AD11: No fue posible identificar evidencias para el presente período de análisis | AE11: SIN INICIAR | AF11: No aplica | AG11: No aplica | AH11: No aplica
A12: =+A11+1 -> 4 | B12: Auditoría interna | C12: 2019 | D12: Subdirección Administrativa y Financiera | F12: 2019_CO_H1 | G12: El proceso de Gestión Contractual presenta incumplimiento en los tiempos y debilidades en los controles establecidos actualmente, lo cual va en contravía a lo establecido en el actual Manual de Contratación institucional el cual determina que: “5. PLANEACIÓN DE LA GESTIÓN CONTRACTUAL La planeación será el pilar de los todos los procesos contractuales que adelante la Dirección Nacional de Bomberos. La aplicación de este principio implicara contar con un plan que consolide y priorice las adquisiciones de la dirección, teniendo en cuenta las necesidades diagnosticadas, la realización de estudios y análisis antes de iniciar un procedimiento de selección...” dicha priorización no se evidencia en los instrumentos actuales de la gestión contractual, por lo cual se estructura la presente No Conformidad. | H12: GESTIÓN PRESUPUESTAL Y EFICIENCIA DEL GASTO PÚBLICO | I12: Incumplimiento de los procesos de la entidad en la presentación oportuna de los estudios previos, análisis del sector, estudios de mercado y demás soportes requeridos para la contratación que se solicite. Falta de atención por parte de las áreas usuarias en la presentación integral y oportuna de la información soporte del proceso contractual. | J12: Falta de atención por parte de las áreas usuarias en la presentación integral y oportuna de la información soporte del proceso contractual. | K12: Acción correctiva | L12: GC_AC1 | M12: Seguimiento al Plan de adquisiciones realizados y validación con el cargue de información con SECOP | N12: Seguimientos realizados | O12: 9 | P12: 46113 | Q12: 46387 | R12: =DAYS360(P12,Q12)/360*54 -> 40.5 | S12: 15. Gestión Contractual | T12: En mesa de trabajo se actualización | U12: =+IFERROR(VLOOKUP($L12,ACTIVIDADES!$B$9:$X$493,10,0),"") -> 1 | V12: =+IFERROR(VLOOKUP($L12,ACTIVIDADES!$B$9:$X$493,11,0)," ") -> Se informa que ya se realizaron los ajustes correspondientes en la página principal del sitio web de la Entidad, conforme a lo establecido en el Anexo 2 de la Resolución 1519 de 2020. En este sentido, se implementó la sección “Transparencia y acceso a la información pública”, así como la inclusión del footer (pie de página) GOV.CO y el nuevo menú de Atención y Servicios a la Ciudadanía y Participa. | W12: =+IFERROR(VLOOKUP($L12,ACTIVIDADES!$B$9:$X$493,12,0),"") -> https://dnbc.gov.co/transparencia-y-acceso-a-la-informacion-publica/ | X12: =+IFERROR(VLOOKUP($L12,ACTIVIDADES!$B$9:$X$493,13,0),"") -> 46153 | Y12: =+IFERROR(VLOOKUP($L12,ACTIVIDADES!$B$9:$X$493,14,0),"") -> Se adjunta pabtallazo de pagina web donde se evidencia la creación del portal de transparencia | Z12: =+IFERROR(VLOOKUP($L12,ACTIVIDADES!$B$9:$X$493,15,0),"") -> 1 | AA12: =+IFERROR(VLOOKUP($L12,ACTIVIDADES!$B$9:$X$493,16,0),"") -> CUMPLIDO | AB12: 46157 | AC12: 0.5 | AD12: Se evidencio que la accion formulada carece de soportes que permitan verificar el cumplimiento de la actividad, toda vez que los documentos reportados no incluyen segumientos al plan anual de adquisiciones. | AE12: EN EJECUCIÓN | AF12: No aplica | AG12: No aplica | AH12: No aplica
A13: =+A12+1 -> 5 | B13: Auditoría interna | C13: 2019 | D13: Subdirección Administrativa y Financiera | F13: 2019_CO_H2 | G13: Se evidenció que la “Constancia de idoneidad y experiencia” en los contratós de Prestación de servicios profesionales No. 014, 022, 087 y 089 del 2018, y en el documento “Verificación de los documentos de la propuesta” de los contratós de prestación de servicios No. 006, 014, 081, 087, 088 y 089 de 2018 expedidos y suscritos por el Subdirector Administrativo y Financiero de la DNBC, registraron información que no fue fidedigna a la aportada por el contratista, situación que denota que los controles presentaron debilidades al generarse documentos oficiales con inconsistencias, incumpliendo lo establecido en el MIPG - Dimensión 3 Gestión con valores para resultados - cuando señala: “... los aspectos mínimos que una entidad debe tener en cuenta para trabajar por procesos son los siguientes: …- Documentar y formalizar los procesos para identificar el aporte que cada uno hace a la prestación del servicio y la adecuada gestión, - Definir los responsables del proceso y sus obligaciones, -Identificar los riesgos del proceso, así como establecer los controles correspondientes. - Definir los controles de medición y seguimiento correspondientes”. | H13: COMPRAS Y CONTRATACIÓN PÚBLICA | I13: Debilidad en la ejecución de los controles para la elaboración de los documentos propios del Proceso Gestión contractual. | J13: Debilidad en la ejecución de los controles para la elaboración de los documentos propios del Proceso Gestión contractual. | K13: Acción correctiva | L13: GC_AC2 | M13: Realizar la revisión de los documentos "Constancia de idoneidad y experiencia" y "verificación de los documentos de la propuesta" por parte de un profesional diferente al profesional que proyectó el respectivo documento a fin de verificar la consistencia de la información. | N13: N° de documentos con revisión / N° de documentos expedidos (Constancia de idoneidad y experiencia y verificación de los documentos de la propuesta) | O13: 1 | P13: 43832 | Q13: 44012 | R13: =DAYS360(P13,Q13)/360*54 -> 26.7 | S13: 15. Gestión Contractual | T13: En mesa de trabajo se determina que se debe es reportar seguimiento | U13: =+IFERROR(VLOOKUP($L13,ACTIVIDADES!$B$9:$X$493,10,0),"") -> 1 | V13: =+IFERROR(VLOOKUP($L13,ACTIVIDADES!$B$9:$X$493,11,0)," ") -> Se informa que la socialización esta planmteada para el día martes 28 de abril | W13: =+IFERROR(VLOOKUP($L13,ACTIVIDADES!$B$9:$X$493,12,0),"") -> 0 | X13: =+IFERROR(VLOOKUP($L13,ACTIVIDADES!$B$9:$X$493,13,0),"") -> 46153 | Y13: =+IFERROR(VLOOKUP($L13,ACTIVIDADES!$B$9:$X$493,14,0),"") -> Se evidencia socialización el día 28 de abril | Z13: 1 | AA13: =+IFERROR(VLOOKUP($L13,ACTIVIDADES!$B$9:$X$493,16,0),"") -> CUMPLIDO | AB13: 46157 | AC13: 0 | AD13: Se evidencio que la accion formulada carece de soportes que permitan verificar el cumplimiento de la actividad, toda vez que los documentos reportados no subsanan el hallazgo fotmulado | AE13: VENCIDA | AF13: No aplica | AG13: No aplica | AH13: No aplica
A14: =+A13+1 -> 6 | B14: Auditoría interna | C14: 2019 | D14: Subdirección Administrativa y Financiera | F14: 2019_CO_H2 | G14: Se evidenció que la “Constancia de idoneidad y experiencia” en los contratós de Prestación de servicios profesionales No. 014, 022, 087 y 089 del 2018, y en el documento “Verificación de los documentos de la propuesta” de los contratós de prestación de servicios No. 006, 014, 081, 087, 088 y 089 de 2018 expedidos y suscritos por el Subdirector Administrativo y Financiero de la DNBC, registraron información que no fue fidedigna a la aportada por el contratista, situación que denota que los controles presentaron debilidades al generarse documentos oficiales con inconsistencias, incumpliendo lo establecido en el MIPG - Dimensión 3 Gestión con valores para resultados - cuando señala: “... los aspectos mínimos que una entidad debe tener en cuenta para trabajar por procesos son los siguientes: …- Documentar y formalizar los procesos para identificar el aporte que cada uno hace a la prestación del servicio y la adecuada gestión, - Definir los responsables del proceso y sus obligaciones, -Identificar los riesgos del proceso, así como establecer los controles correspondientes. - Definir los controles de medición y seguimiento correspondientes”. | H14: COMPRAS Y CONTRATACIÓN PÚBLICA | I14: Debilidad en la ejecución de los controles para la elaboración de los documentos propios del Proceso Gestión contractual. | J14: Debilidad en la ejecución de los controles para la elaboración de los documentos propios del Proceso Gestión contractual. | K14: Acción correctiva | L14: GC_AC3 | M14: Incluir en el Procedimiento Gestión Contractual el control para la revisión de los documentos "Hoja de vida DAFP", "Constancia de idoneidad y experiencia" y "verificación de los documentos de la propuesta". | N14: Procedimiento Gestión Contractual actualizado con controles para la revisión de los documentos "Hoja de Vida DAFP", "Constancia de idoneidad y experiencia" y "verificación de los documentos de la propuesta", publicados en la carpeta del SIGEC | O14: 1 | P14: 43808 | Q14: 43917 | R14: =DAYS360(P14,Q14)/360*54 -> 16.2 | S14: 15. Gestión Contractual | T14: En mesa de trabajo se determina que se debe es reportar seguimiento | U14: =+IFERROR(VLOOKUP($L14,ACTIVIDADES!$B$9:$X$493,10,0),"") -> 1 | V14: =+IFERROR(VLOOKUP($L14,ACTIVIDADES!$B$9:$X$493,11,0)," ") -> Se informa que ya se encuentra el link de procesos y procedimientos en el menu de transparencia y acceso a la información. | W14: =+IFERROR(VLOOKUP($L14,ACTIVIDADES!$B$9:$X$493,12,0),"") -> https://dnbc.gov.co/transparencia-y-acceso-a-la-informacion-publica/ - https://dnbcgovco-my.sharepoint.com/personal/planeacion_dnbc_gov_co/_layouts/15/onedrive.aspx?id=%2Fpersonal%2Fplaneacion%5Fdnbc%5Fgov%5Fco%2FDocuments%2FDocumentos%20SIGE%2F2%2E%20Procesos&ga=1 | X14: =+IFERROR(VLOOKUP($L14,ACTIVIDADES!$B$9:$X$493,13,0),"") -> 46153 | Y14: =+IFERROR(VLOOKUP($L14,ACTIVIDADES!$B$9:$X$493,14,0),"") -> Se evidencia pantallazo de transparencia dodne en el numeral 1.9 se da link a documentos del sistema de gestión de la entidad | Z14: =+IFERROR(VLOOKUP($L14,ACTIVIDADES!$B$9:$X$493,15,0),"") -> 1 | AA14: =+IFERROR(VLOOKUP($L14,ACTIVIDADES!$B$9:$X$493,16,0),"") -> CUMPLIDO | AB14: 46157 | AC14: 1 | AD14: Se evidencio pantallazo de la pagina web de la entidad en la cual se puede realizar o verificar los procdimientos de cada uno de los proceos de la DNBC | AE14: C. EXTRATEMPORANEAMENTE | AF14: No aplica | AG14: ABIERTO | AH14: De acuerdo con el procedimiento "Formulación, monitoreo y seguimiento a planes de mejoramiento internos y externos, V06 del 20/055/2026", se realizará la evaluación de la efectividad, cuando pasado un (1) año de su cumplimiento (31//03/2026), Control Interno establecerá si, las acciones propuestas o planeadas eliminaron o subsanaron la causa que generó el hallazgo, o se han modificado los supuestos de hecho o de derecho que dieron origen al mismo.
A15: =+A14+1 -> 7 | B15: Auditoría interna | C15: 2019 | D15: Subdirección Administrativa y Financiera | F15: 2019_TI_H5 | G15: Se evidencia que a la fecha no se cuenta con el nivel de adopción de los lineamientos de planeación estratégica que permitan la implementación de la política de Gobierno Digital de acuerdo con lo establecido en MANUAL DE GOBIERNO DIGITAL, Implementación de la Política de Gobierno Digital Decreto 1008 de 2018 (Compilado en el Decreto 1078 de 2015, capítulo 1, título 9, parte 2, libro 2). | I15: 1. Por qué: Desconocimiento de los los lineamientos, estándares y acciones a ejecutar que conforman la política de Gobierno Digital. | J15: Desconocimiento de los lineamientos, estándares y acciones a ejecutar que conforman la política de Gobierno Digital. | K15: Acción correctiva | L15: TI_AC1 | M15: Implementar el proyecto de estabilizacion de Servicios Tecnológicos que pretende habilitar los elementos transversales de Seguridad de la Información y Servicios Ciudadanos Digitales | N15: N.º de actividades programadas / N.º de actividades realizadas | O15: 1 | P15: 46113 | Q15: 46387 | R15: =DAYS360(P15,Q15)/360*54 -> 40.5 | S15: 18. Gestión de Tecnología e Informática | U15: =+IFERROR(VLOOKUP($L15,ACTIVIDADES!$B$9:$X$493,10,0),"") -> 0.3 | V15: =+IFERROR(VLOOKUP($L15,ACTIVIDADES!$B$9:$X$493,11,0)," ") -> Se aporta como evidencia el formato de necesidad RUE 2.0, que soporta la implementación y fortalecimiento de los servicios tecnológicos institucionales. | W15: =+IFERROR(VLOOKUP($L15,ACTIVIDADES!$B$9:$X$493,12,0),"") -> https://dnbcgovco-my.sharepoint.com/:f:/g/personal/planeacion_dnbc_gov_co/IgBrVWPM042YTo_4iT2tkw4QAfir0p78OawR0odu1yhtmJU?e=xX7mWf | X15: =+IFERROR(VLOOKUP($L15,ACTIVIDADES!$B$9:$X$493,13,0),"") -> 46153 | Y15: =+IFERROR(VLOOKUP($L15,ACTIVIDADES!$B$9:$X$493,14,0),"") -> Se evidencia formato de necesidad para proceso contractual | Z15: =+IFERROR(VLOOKUP($L15,ACTIVIDADES!$B$9:$X$493,15,0),"") -> 0.3 | AA15: =+IFERROR(VLOOKUP($L15,ACTIVIDADES!$B$9:$X$493,16,0),"") -> EJECUCIÓN | AB15: 46178 | AC15: 0.3 | AD15: Se evidenció como soporte el formato de necesidad correspondiente al bien o servicio solicitado denominado "Desarrollo e implementación de la versión RUE 2.0 para la Dirección Nacional de Bomberos", con fecha del 10 de febrero de 2016. No obstante, la evidencia aportada corresponde únicamente a la identificación de una necesidad específica relacionada con el RUE 2.0 y no demuestra de manera suficiente la implementación del proyecto de estabilizacion de Servicios Tecnológicos que pretende habilitar los elementos transversales de Seguridad de la Información y Servicios Ciudadanos Digitales definidada como la acción correctiva a desarrollar. En consecuencia, la tercera línea de defensa recomienda identificar e implementar acciones adicionales orientadas a la apropiación, el diagnóstico, la planificación y el seguimiento de la Política de Gobierno Digital, conforme a los lineamientos del Ministerio TIC. Asimismo, se recomienda subsanar la causa raíz del hallazgo identificado, con el fin de asegurar la efectividad de la acción de correctiva y prevenir su recurrencia. | AE15: EN EJECUCIÓN | AF15: No aplica | AG15: No aplica | AH15: No aplica
A16: =+A15+1 -> 8 | B16: Auditoría interna | C16: 2019 | D16: Subdirección Administrativa y Financiera | F16: 2019_TI_H5 | G16: Se evidencia que a la fecha no se cuenta con el nivel de adopción de los lineamientos de planeación estratégica que permitan la implementación de la política de Gobierno Digital de acuerdo con lo establecido en MANUAL DE GOBIERNO DIGITAL, Implementación de la Política de Gobierno Digital Decreto 1008 de 2018 (Compilado en el Decreto 1078 de 2015, capítulo 1, título 9, parte 2, libro 2). | I16: 1º Por qué: Desconocimiento de los lineamientos, estándares y acciones a ejecutar que conforman la política de Gobierno Digital. | J16: Desconocimiento de los lineamientos, estándares y acciones a ejecutar que conforman la política de Gobierno Digital. | K16: Acción correctiva | L16: TI_AC2 | M16: Implementación del protocolo de internet IPv6 de acuerdo a la Resolución 2710 de 2017. | N16: Implementacion del protocolo de internet IPV6 | O16: 1 | P16: 46113 | Q16: 46387 | R16: =DAYS360(P16,Q16)/360*54 -> 40.5 | S16: 18. Gestión de Tecnología e Informática | U16: =+IFERROR(VLOOKUP($L16,ACTIVIDADES!$B$9:$X$493,10,0),"") -> 0.1 | V16: =+IFERROR(VLOOKUP($L16,ACTIVIDADES!$B$9:$X$493,11,0)," ") -> A la fecha no existe proceso formal de implementación de IPv6; se identifica la necesidad dentro del PETI 2026 para definir hoja de ruta y acciones de cumplimiento. | W16: =+IFERROR(VLOOKUP($L16,ACTIVIDADES!$B$9:$X$493,12,0),"") -> 0 | X16: =+IFERROR(VLOOKUP($L16,ACTIVIDADES!$B$9:$X$493,13,0),"") -> 46153 | Y16: =+IFERROR(VLOOKUP($L16,ACTIVIDADES!$B$9:$X$493,14,0),"") -> El PETI se encuentra en proceso de actualización | Z16: =+IFERROR(VLOOKUP($L16,ACTIVIDADES!$B$9:$X$493,15,0),"") -> 0 | AA16: =+IFERROR(VLOOKUP($L16,ACTIVIDADES!$B$9:$X$493,16,0),"") -> EJECUCIÓN | AB16: 46181 | AC16: 0 | AD16: No fue posible identificar evidencias para el presente período de análisis | AE16: SIN INICIAR | AF16: No aplica | AG16: No aplica | AH16: No aplica
A17: =+A16+1 -> 9 | B17: Auditoría interna | C17: 2019 | D17: Subdirección Administrativa y Financiera | F17: 2019_TI_H4 | G17: Se evidencia debilidad en la documentación (Caracterización del proceso) y ejecución del proceso por cuanto no se han implementado los procedimientos requeridos para ejecutar de manera estandarizada y soportada las actividades propias de proceso, incumpliendo lo establecido en el MIPG, 3.2.1.1 Política de Fortalecimiento organizacional y simplificación de procesos. | I17: 1. Por qué; El grupo de gestión tecnológica no cuenta con el personal suficiente que permita realizar verificación o actualización de los procesos de la Gestión de TI 2. Por qué: El área de Gestión Tecnológica no tiene metodologías definidas para atender los requerimientos e incidentes por lo irregular de los elementos que componen de la red corporativa de la entidad. 3. Por que; No se tienen claramente identificados los factores críticos o de éxito del proceso. | J17: No se tienen claramente identificados los factores críticos o de éxito del proceso. | K17: Acción correctiva | L17: TI_AC3 | M17: Realizar la caracterización del proceso definiendo los factores críticos y de exitico del proceso. | N17: Metodologias definidas en el proceso de Gestión de Tecnología | O17: 1 | P17: 46023 | Q17: 46142 | R17: =DAYS360(P17,Q17)/360*54 -> 17.85 | S17: 18. Gestión de Tecnología e Informática | T17: Reportar seguimiento | U17: =+IFERROR(VLOOKUP($L17,ACTIVIDADES!$B$9:$X$493,10,0),"") -> 1 | V17: =+IFERROR(VLOOKUP($L17,ACTIVIDADES!$B$9:$X$493,11,0)," ") -> Se aporta como evidencia la Caracterización CT-TI versión 04 aprobada, que contiene la definición de factores críticos y de éxito del proceso. | W17: =+IFERROR(VLOOKUP($L17,ACTIVIDADES!$B$9:$X$493,12,0),"") -> https://dnbcgovco-my.sharepoint.com/:f:/g/personal/planeacion_dnbc_gov_co/IgB5ud7b1mvzR6LEuE_muVtIAXnMfndxc-qfhTxTextcGU4?e=aHpPFN | X17: =+IFERROR(VLOOKUP($L17,ACTIVIDADES!$B$9:$X$493,13,0),"") -> 46153 | Y17: =+IFERROR(VLOOKUP($L17,ACTIVIDADES!$B$9:$X$493,14,0),"") -> Se adjunta caracterizaicón del proceso en su versión 4 disponible desde marzo 2026 | Z17: =+IFERROR(VLOOKUP($L17,ACTIVIDADES!$B$9:$X$493,15,0),"") -> 1 | AA17: =+IFERROR(VLOOKUP($L17,ACTIVIDADES!$B$9:$X$493,16,0),"") -> CUMPLIDO | AB17: 46181 | AC17: 1 | AD17: Se evidencia la actualización y aprobación de la Caracterización del Proceso Gestión de Tecnología e Informática, versión 04, vigente desde el 31 de marzo de 2026, documento mediante el cual se fortalecen el objetivo, alcance, actividades, riesgos, indicadores y demás elementos del proceso, en concordancia con los lineamientos institucionales y el MIPG. En consecuencia, la evidencia permite validar la ejecución y cumplimiento de la acción correctiva formulada para subsanar el hallazgo identificado. | AE17: C. OPORTUNAMENTE | AF17: No aplica | AG17: ABIERTO | AH17: De acuerdo con el procedimiento "Formulación, monitoreo y seguimiento a planes de mejoramiento internos y externos, V06 del 20/055/2026", se realizará la evaluación de la efectividad, cuando pasado un (1) año de su cumplimiento (31//03/2026), Control Interno establecerá si, las acciones propuestas o planeadas eliminaron o subsanaron la causa que generó el hallazgo, o se han modificado los supuestos de hecho o de derecho que dieron origen al mismo.
A18: =+A17+1 -> 10 | B18: Auditoría interna | C18: 2019 | D18: Subdirección Administrativa y Financiera | F18: 2019_TI_H2 | G18: Se deben generar los documentos en el SIGEC, necesarios para la puesta en marcha del Sistema de Gestión Documental ORFEO actualizado, en desarrollo del contrato 078 de 2019, de igual forma realizar las respectivas jornadas de capacitación al personal de la entidad. | I18: 1º Por qué; Los servidores públicos que recibieron a satisfacción el resultado esperado de la ejecución del contrato 078 de 2019 no continua en la entidad, lo que no permitió garantizar la seguridad de la información para la puesta en marcha del sistema de Gestión documental ORFEO | J18: Los servidores públicos que recibieron a satisfacción el resultado esperado de la ejecución del contrato 078 de 2019 no continúan en la entidad, lo que genero que no se lograra garantizar. La seguridad de la información para la puesta en marcha del sistema de Gestión documental ORFEO | K18: Acción correctiva | L18: TI_AC4 | M18: Realizar cronograma de mesas de trabajo y definir las actividades pendientes de ejecución | N18: N.º de mesas de trabajo programadas / Nº de mesas de trabajo realizadas *100 | O18: 1 | P18: 46023 | Q18: 46142 | R18: =DAYS360(P18,Q18)/360*54 -> 17.85 | S18: 18. Gestión de Tecnología e Informática | T18: Reportar seguimiento | U18: =+IFERROR(VLOOKUP($L18,ACTIVIDADES!$B$9:$X$493,10,0),"") -> 0.5 | V18: =+IFERROR(VLOOKUP($L18,ACTIVIDADES!$B$9:$X$493,11,0)," ") -> Se adjunta cronograma de mesas de trabajo, Plan de Acción Consolidado 2026, tablero de indicadores y PETI 2026 como evidencia de ejecución, donde se definieron actividades pendientes, responsables, seguimiento y ruta de cumplimiento. | W18: =+IFERROR(VLOOKUP($L18,ACTIVIDADES!$B$9:$X$493,12,0),"") -> https://dnbcgovco-my.sharepoint.com/:f:/g/personal/planeacion_dnbc_gov_co/IgDmXlHU6zXTQK9x9jp7Bf17AYtyFsp_fzNFqXJ4TC8E0I4?e=UeixIY | X18: =+IFERROR(VLOOKUP($L18,ACTIVIDADES!$B$9:$X$493,13,0),"") -> 46153 | Y18: =+IFERROR(VLOOKUP($L18,ACTIVIDADES!$B$9:$X$493,14,0),"") -> Se incluye información de plan de acción y borrador de actualización de PETI 2026 | Z18: =+IFERROR(VLOOKUP($L18,ACTIVIDADES!$B$9:$X$493,15,0),"") -> 0.5 | AA18: =+IFERROR(VLOOKUP($L18,ACTIVIDADES!$B$9:$X$493,16,0),"") -> EJECUCIÓN | AB18: 46181 | AC18: 0.5 | AD18: Se presenta como evidencia del cumplimiento de la acción, el Plan Estratégico de Tecnologías de la Información (PETI) 2026 en su versión final y aprobada, junto con el cronograma de mesas de trabajo (primer trimestre 2026), el Plan de Acción de TI del primer trimestre de 2026 y el Tablero de Indicadores debidamente diligenciados. La evidencia demuestra un avance parcial de la acción correctiva; no obstante, se recomienda continuar con su implementación, formalizar los documentos en construcción y documentar los resultados para garantizar el cumplimiento integral de la acción. | AE18: EN EJECUCIÓN | AF18: No aplica | AG18: No aplica | AH18: No aplica
A19: =+A18+1 -> 11 | B19: Auditoría interna | C19: 2018 | D19: Subdirección Administrativa y Financiera | F19: 2018_TH_H1 | G19: De los incumplimientos evidenciados en el horario de trabajo, registro de biométrico, inconsistencia de novedades, etc, no se evidencian acciones disciplinarias que conlleven al cumplimiento de los compromisos laborales, cumplimientos de los objetivos institucionales y adecuada prestación del servicio público al que está abocada la entidad. | I19: Porque no existe una directriz del manejo del Biométrico y responsabilidad de cada funcionario frente a su cumplimiento. | J19: Porque no existe una directriz del manejo del Biométrico y responsabilidad de cada funcionario frente a su cumplimiento. | K19: Acción correctiva | L19: TH_AC1 | M19: Se elaborará una directriz en la que se incluyan los horarios y las jornadas de trabajo, la trazabilidad de las novedades, manejo del Biométrico, la responsabilidad de cada funcionario frente a su cumplimiento y las acciones disciplinarias a que haya lugar. | N19: Directriz frente al horario laboral, novedades y biométrico | O19: 1 | P19: 43467 | Q19: 43524 | R19: =DAYS360(P19,Q19)/360*54 -> 8.4 | S19: 11. Gestión del Talento Humano | T19: Presentar seguimiento en el rpimer trimestre | U19: =+IFERROR(VLOOKUP($L19,ACTIVIDADES!$B$9:$X$493,10,0),"") -> 1 | V19: =+IFERROR(VLOOKUP($L19,ACTIVIDADES!$B$9:$X$493,11,0)," ") -> Se aportan registro de biometrico y permisos, en los cuales se ve reflejados los ingresos de los funcionarios. | W19: =+IFERROR(VLOOKUP($L19,ACTIVIDADES!$B$9:$X$493,12,0),"") -> TH_AC1 | X19: =+IFERROR(VLOOKUP($L19,ACTIVIDADES!$B$9:$X$493,13,0),"") -> 46153 | Y19: =+IFERROR(VLOOKUP($L19,ACTIVIDADES!$B$9:$X$493,14,0),"") -> Incluyen reportes de biometricos (incompleto) y de permisos. No obstantes, no dan cuenta de la directriz planteada | Z19: =+IFERROR(VLOOKUP($L19,ACTIVIDADES!$B$9:$X$493,15,0),"") -> 0 | AA19: =+IFERROR(VLOOKUP($L19,ACTIVIDADES!$B$9:$X$493,16,0),"") -> VENCIDO | AB19: 46157 | AC19: 0 | AD19: No fue posible identificar evidencias para el presente período de análisis | AE19: VENCIDA | AF19: No aplica | AG19: No aplica | AH19: No aplica
A20: =+A19+1 -> 12 | B20: Auditoría interna | C20: 2018 | D20: Dirección General | F20: 2018_TH_H1 | G20: De los incumplimientos evidenciados en el horario de trabajo, registro de biométrico, inconsistencia de novedades, etc, no se evidencian acciones disciplinarias que conlleven al cumplimiento de los compromisos laborales, cumplimientos de los objetivos institucionales y adecuada prestación del servicio público al que está abocada la entidad. | H20: INTEGRIDAD | I20: Porque no existe una directriz del manejo del Biométrico y responsabilidad de cada funcionario frente a su cumplimiento. | J20: Porque no existe una directriz del manejo del Biométrico y responsabilidad de cada funcionario frente a su cumplimiento. | K20: Acción correctiva | L20: DI_AC1 | M20: Adelantar las acciones disciplinarias a que haya lugar por el incumplimiento de la directriz en cuanto a horario laboral. | N20: (# Procesos disciplinarios iniciados a los funcionarios de planta de la DNBC/# Procesos disciplinarios identificados relacionados por el incumplimiento de la directriz en cuanto a horario laboral | O20: 1 | P20: 43525 | Q20: 44353 | R20: =DAYS360(P20,Q20)/360*54 -> 122.25 | S20: 12. Gestión de Asuntos Disciplinarios | U20: =+IFERROR(VLOOKUP($L20,ACTIVIDADES!$B$9:$X$493,10,0),"") -> 1 | V20: =+IFERROR(VLOOKUP($L20,ACTIVIDADES!$B$9:$X$493,11,0)," ") -> Existen dos procedimientos dentro del proceso de gestión de asuntos disciplinarios a saber: Asuntos Disciplinarios y Prevención Disciplinaria. Dentro de las actividades que puede desplegar el proceso se han adelantado una investigación disciplinaria con pliego de cargos formulado y debidamente notificado, el cual fue trasladado para la etapa de juzgamiento el 6 de agosto de 2024, existen dos indagaciones previas, una de las cuales se encuentra en recaudo probatorio y respecto de la otra se adelantó función preventiva, sobre esta última, se están adelantando las acciones con el proceso de talento humano para posterior socialización. Se anexa como evidencias el oficio remisorio de la Investigación Disciplinaria, el auto de apertura de la Indagación Previa y la Función preventiva junto con el correo de asignación de fechas de socialización de la misma. Todas estas actividades se encuentran enmarcadas en relación con el hallazgo descrito y direccionadas de acuerdo con las actuaciones disciplinarias consagradas para el efecto. Anexo las evidencias respectivas. | W20: =+IFERROR(VLOOKUP($L20,ACTIVIDADES!$B$9:$X$493,12,0),"") -> https://dnbcgovco-my.sharepoint.com/:f:/g/personal/planeacion_dnbc_gov_co/IgCjzhi-q60BSZdTYwtOAbllAX-OMwaJIqn8vbOEj5i5oe8?e=8mKB0J | X20: =+IFERROR(VLOOKUP($L20,ACTIVIDADES!$B$9:$X$493,13,0),"") -> 46153 | Y20: =+IFERROR(VLOOKUP($L20,ACTIVIDADES!$B$9:$X$493,14,0),"") -> Se evidencia en el respectivo hallazgo, que se realizó la apertura de la acción disciplinaria IP 006-2024, relacionado con el incumplimiento de la directriz en cuanto a horario laboral | Z20: =+IFERROR(VLOOKUP($L20,ACTIVIDADES!$B$9:$X$493,15,0),"") -> 1 | AA20: =+IFERROR(VLOOKUP($L20,ACTIVIDADES!$B$9:$X$493,16,0),"") -> CUMPLIDO | AB20: 46157 | AC20: 1 | AD20: Se presenta como evidencia el auto de apertura de la actuación disciplinaria IP 006-2024, que incluye el auto de apertura de investigación disciplinaria (del 25 de junio de 2024) por presunto incumplimiento del horario laboral, el respectivo auto de archivo por prevención y los correos de socialización. La trazabilidad de estos registros permite validar la ejecución y el cumplimiento total de la acción correctiva dentro del plazo establecido | AE20: C. EXTRATEMPORANEAMENTE | AF20: No aplica | AG20: ABIERTO | AH20: De acuerdo con el procedimiento "Formulación, monitoreo y seguimiento a planes de mejoramiento internos y externos, V06 del 20/055/2026", se realizará la evaluación de la efectividad, cuando pasado un (1) año de su cumplimiento (31//03/2026), Control Interno establecerá si, las acciones propuestas o planeadas eliminaron o subsanaron la causa que generó el hallazgo, o se han modificado los supuestos de hecho o de derecho que dieron origen al mismo.
A21: =+A20+1 -> 13 | B21: Auditoría interna | C21: 2018 | D21: Subdirección Administrativa y Financiera | F21: 2018_TH_H1 | G21: De los incumplimientos evidenciados en el horario de trabajo, registro de biométrico, inconsistencia de novedades, etc, no se evidencian acciones disciplinarias que conlleven al cumplimiento de los compromisos laborales, cumplimientos de los objetivos institucionales y adecuada prestación del servicio público al que está abocada la entidad. | I21: Porque no existe una directriz del manejo del Biométrico y responsabilidad de cada funcionario frente a su cumplimiento. | J21: Porque no existe una directriz del manejo del Biométrico y responsabilidad de cada funcionario frente a su cumplimiento. | K21: Acción correctiva | L21: TH_AC2 | M21: Realizar informe mensual de los funcionarios que incumplen las directrises en cuanto a horario laboral. | N21: Informes Realizados | O21: 12 | P21: 46023 | Q21: 46387 | R21: =DAYS360(P21,Q21)/360*54 -> 54 | S21: 11. Gestión del Talento Humano | U21: =+IFERROR(VLOOKUP($L21,ACTIVIDADES!$B$9:$X$493,10,0),"") -> 0 | V21: =+IFERROR(VLOOKUP($L21,ACTIVIDADES!$B$9:$X$493,11,0)," ") -> 0 | W21: =+IFERROR(VLOOKUP($L21,ACTIVIDADES!$B$9:$X$493,12,0),"") -> 0 | X21: =+IFERROR(VLOOKUP($L21,ACTIVIDADES!$B$9:$X$493,13,0),"") -> 46153 | Y21: =+IFERROR(VLOOKUP($L21,ACTIVIDADES!$B$9:$X$493,14,0),"") -> No se evidencia seguimiento | Z21: =+IFERROR(VLOOKUP($L21,ACTIVIDADES!$B$9:$X$493,15,0),"") -> 0 | AA21: =+IFERROR(VLOOKUP($L21,ACTIVIDADES!$B$9:$X$493,16,0),"") -> EJECUCIÓN | AB21: 46157 | AC21: 0 | AD21: No fue posible identificar evidencias para el presente período de análisis | AE21: SIN INICIAR | AF21: No aplica | AG21: No aplica | AH21: No aplica
A22: =+A21+1 -> 14 | B22: Auditoría interna | C22: 2018 | D22: Subdirección Administrativa y Financiera | F22: 2018_AD_H1 | G22: Se evidenció que no se han establecido los requisitos ambientales para la compra de productos y servicios. Aunque Gestión Administrativa, ha identificado los requisitos ambientales para la adquisición de insumos y servicios al interior de la entidad, dichos requisitos no han sido establecidos formalmente en el proceso de Gestión Contractual (Compras verdes). Dicha observación ha sido recurrente ya que se había evidenciado en la auditoría de la vigencia 2016. | I22: 1er Por qué: Porque los programas ambientales están en fase de actualización y perfeccionamiento 2do Por qué: Se tenia presente que era un asunto netamente contractual. 3er Por qué: Falta de asesoría en el tema. | J22: Falta de asesoría en el tema | K22: Acción correctiva | L22: GA_AC04 | M22: Establecer los requisitos ambientales para la compra de productos y servicios para entregarlos al proceso de gestión de contractual. | N22: Documento con los requisitos ambientales para la compra de productos y servicios entregado al proceso de gestión de contractual enviado a gestión de contratación con el fin de que modificación el manual de contratación. | O22: 1 | P22: 46143 | Q22: 46387 | R22: =DAYS360(P22,Q22)/360*54 -> 36 | S22: 14. Gestión Administrativa | U22: =+IFERROR(VLOOKUP($L22,ACTIVIDADES!$B$9:$X$493,10,0),"") -> 0 | V22: =+IFERROR(VLOOKUP($L22,ACTIVIDADES!$B$9:$X$493,11,0)," ") -> Ya se realizó En espera de subida Manual de Contratacion a Documentos SIGE | W22: =+IFERROR(VLOOKUP($L22,ACTIVIDADES!$B$9:$X$493,12,0),"") -> https://dnbcgovco-my.sharepoint.com/:f:/g/personal/planeacion_dnbc_gov_co/IgB19ESilxpMSJfUKtVjxhE4AQSL_eXP18BVUzcXbHzBwRY?e=kudfXg | X22: =+IFERROR(VLOOKUP($L22,ACTIVIDADES!$B$9:$X$493,13,0),"") -> 46153 | Y22: =+IFERROR(VLOOKUP($L22,ACTIVIDADES!$B$9:$X$493,14,0),"") -> En el mes de abril el proceso presentó solicitud de actualización de manual de contratación con información ambiental | Z22: =+IFERROR(VLOOKUP($L22,ACTIVIDADES!$B$9:$X$493,15,0),"") -> 0 | AA22: =+IFERROR(VLOOKUP($L22,ACTIVIDADES!$B$9:$X$493,16,0),"") -> EJECUCIÓN | AB22: 46170 | AC22: 0 | AD22: No fue posible identificar evidencias para el presente período de análisis | AE22: SIN INICIAR | AF22: No aplica | AG22: No aplica | AH22: No aplica
A23: =+A22+1 -> 15 | B23: Auditoría interna | C23: 2018 | D23: Subdirección Administrativa y Financiera | F23: 2018_AD_H1 | G23: Se evidenció que no se han establecido los requisitos ambientales para la compra de productos y servicios. Aunque Gestión Administrativa, ha identificado los requisitos ambientales para la adquisición de insumos y servicios al interior de la entidad, dichos requisitos no han sido establecidos formalmente en el proceso de Gestión Contractual (Compras verdes). Dicha observación ha sido recurrente ya que se había evidenciado en la auditoría de la vigencia 2016. | I23: 1er Por qué: Porque los programas ambientales están en fase de actualización y perfeccionamiento 2do Por qué: Se tenia presente que era un asunto netamente contractual. 3er Por qué: Falta de asesoría en el tema. | J23: Falta de asesoría en el tema | K23: Acción correctiva | L23: GA_AC05 | M23: Manual de Contratación actualizado con la inclusión de requisitos ambientales para los procesos para compras verdes | N23: Actualizacion de los lineamientos de compras verdes en el manual de contratación | O23: 1 | P23: 46143 | Q23: 46387 | R23: =DAYS360(P23,Q23)/360*54 -> 36 | S23: 15. Gestión Contractual / 14. Gestión Administrativa | U23: =+IFERROR(VLOOKUP($L23,ACTIVIDADES!$B$9:$X$493,10,0),"") -> 0 | V23: =+IFERROR(VLOOKUP($L23,ACTIVIDADES!$B$9:$X$493,11,0)," ") -> Ya se realizó En espera de subida Manual de Contratacion a Documentos SIGE | W23: =+IFERROR(VLOOKUP($L23,ACTIVIDADES!$B$9:$X$493,12,0),"") -> https://dnbcgovco-my.sharepoint.com/:f:/g/personal/planeacion_dnbc_gov_co/IgBEsOvBeuHoSL1Q9PbjaoRmAb1anr6mohw0RTZZ8zLfMTs?e=XsAe2Q | X23: =+IFERROR(VLOOKUP($L23,ACTIVIDADES!$B$9:$X$493,13,0),"") -> 46153 | Y23: =+IFERROR(VLOOKUP($L23,ACTIVIDADES!$B$9:$X$493,14,0),"") -> En el mes de abril el proceso presentó solicitud de actualización de manual de contratación con información ambiental | Z23: =+IFERROR(VLOOKUP($L23,ACTIVIDADES!$B$9:$X$493,15,0),"") -> 0 | AA23: =+IFERROR(VLOOKUP($L23,ACTIVIDADES!$B$9:$X$493,16,0),"") -> EJECUCIÓN | AB23: 46157 | AC23: 0 | AD23: No fue posible identificar evidencias para el presente período de análisis | AE23: SIN INICIAR | AF23: No aplica | AG23: No aplica | AH23: No aplica
A24: =+A23+1 -> 16 | B24: Auditoría interna | C24: 2019 | D24: Subdirección Administrativa y Financiera | F24: 2019_TI_H1 | G24: No se realizó un adecuado diseño de los indicadores de gestión del proceso Gestión de Tecnología e Informática, por cuanto no se está midiendo el cumplimiento del objetivo del proceso. | I24: 1º Por qué; Falta de personal para el seguimiento y verificación del cumplimiento de los indicadores en la ejecucion del soporte técnico de los equipos de la entidad. 2º Por qué; No se tienen los recursos económicos necesarios para el cumplimiento del soporte Técnico. 3º Por qué; No se aplican las políticas, procedimientos y seguimiento de atención de soporte Técnico. | J24: No se aplican las políticas, procedimientos y seguimiento de atención de soporte Técnico. | K24: Acción correctiva | L24: TI_AC5 | M24: Realizar e implementar un formulario en linea que permita medir la oportunidad en tiempo real del soporte técnico, para la realización de los indicadores de gestión. | N24: Formato ejecutado de control de mantenimiento a los equipos de computo de la DNBC. | O24: 1 | P24: 46023 | Q24: 46142 | R24: =DAYS360(P24,Q24)/360*54 -> 17.85 | S24: 18. Gestión de Tecnología e Informática | T24: Reportar seguimiento | U24: =+IFERROR(VLOOKUP($L24,ACTIVIDADES!$B$9:$X$493,10,0),"") -> 0.5 | V24: =+IFERROR(VLOOKUP($L24,ACTIVIDADES!$B$9:$X$493,11,0)," ") -> Se adjunta Plan de Mantenimiento 2026 como evidencia de avance, incluyendo cronograma, seguimiento y mecanismos de evaluación para medición del soporte técnico. | W24: =+IFERROR(VLOOKUP($L24,ACTIVIDADES!$B$9:$X$493,12,0),"") -> https://dnbcgovco-my.sharepoint.com/:f:/g/personal/planeacion_dnbc_gov_co/IgAkffJz8RHCSoYwUGVrNivMARn_03lGJ2j6OJKB6h4Tx_Q?e=PyfV3P | X24: =+IFERROR(VLOOKUP($L24,ACTIVIDADES!$B$9:$X$493,13,0),"") -> 46153 | Y24: =+IFERROR(VLOOKUP($L24,ACTIVIDADES!$B$9:$X$493,14,0),"") -> No se evidencia actividades relacionadas con el formulario en linea | Z24: =+IFERROR(VLOOKUP($L24,ACTIVIDADES!$B$9:$X$493,15,0),"") -> 0 | AA24: =+IFERROR(VLOOKUP($L24,ACTIVIDADES!$B$9:$X$493,16,0),"") -> EJECUCIÓN | AB24: 46181 | AC24: 0.25 | AD24: Se evidencia la presentación del Plan de Mantenimiento Preventivo y Correctivo de los Equipos de Cómputo 2026 como soporte de avance; sin embargo, la evidencia aportada no permite verificar la realización e implementación de un formulario en línea que permita medir la oportunidad del soporte técnico en tiempo real para la generación y medición de los indicadores de gestión. En consecuencia, desde la tercera línea de defensa no es posible validar el cumplimiento de la acción correctiva formulada. Se recomienda implementar el formulario definido, establecer los mecanismos para la captura y análisis de la información generada y aportar los soportes que evidencien su funcionamiento y utilización en la medición de los indicadores de gestión. | AE24: EN EJECUCIÓN | AF24: No aplica | AG24: No aplica | AH24: No aplica
A25: =+A24+1 -> 17 | B25: Auditoría interna | C25: 2019 | D25: Subdirección Administrativa y Financiera | F25: 2019_TI_H1 | G25: No se realizó un adecuado diseño de los indicadores de gestión del proceso Gestión de Tecnología e Informática, por cuanto no se está midiendo el cumplimiento del objetivo del proceso. | I25: 1º Por qué; Falta de personal para el seguimiento y verificación del cumplimiento de los indicadores, soporte técnico y capacitación al personal en el manejo del Google Drive. 2º Por qué; No se cuenta con las herramientas tecnológicas necesarias para brindar soporte y mantenimiento a los equipos de la DNBC. 3º Por qué; La obsolescencia en la plataforma tecnológica de la entidad ocasiona el aumento del numero de incidencias tecnológicas. 4º Por qué; No se han verificado los indicadores del área de gestión de TI y solicitado los recursos necesarios para poder ejecutar las acciones y medir los indicadores" | J25: Falta de personal y recursos economicos para el seguimiento y verificación del cumplimiento de los indicadores. | K25: Acción correctiva | L25: TI_AC6 | M25: Verificar la validez de los indicadores que permiten realizar seguimiento y evaluación periódica de los procesos de TI | N25: "N.º Total de indicadores / N.º total de indicadores Verificados * 100 | O25: 1 | P25: 46023 | Q25: 46142 | R25: =DAYS360(P25,Q25)/360*54 -> 17.85 | S25: 18. Gestión de Tecnología e Informática | T25: Reportar seguimiento | U25: =+IFERROR(VLOOKUP($L25,ACTIVIDADES!$B$9:$X$493,10,0),"") -> 1 | V25: =+IFERROR(VLOOKUP($L25,ACTIVIDADES!$B$9:$X$493,11,0)," ") -> Se aporta como evidencia el Tablero de Indicadores y Fichas Técnicas Gestión TI V4, en el que se verificaron definición, fórmula, periodicidad, meta y mecanismos de seguimiento y evaluación de los indicadores del proceso. | W25: =+IFERROR(VLOOKUP($L25,ACTIVIDADES!$B$9:$X$493,12,0),"") -> https://dnbcgovco-my.sharepoint.com/:f:/g/personal/planeacion_dnbc_gov_co/IgDf_bpELDOIR7zFIV5Lm8t-AWYhJoKta_hK3z5dyahHYDc?e=S0dGWc | X25: =+IFERROR(VLOOKUP($L25,ACTIVIDADES!$B$9:$X$493,13,0),"") -> 46153 | Y25: =+IFERROR(VLOOKUP($L25,ACTIVIDADES!$B$9:$X$493,14,0),"") -> Se incluye matriz de indicadores de gestión TI. No obstante, no se evidencia análisis sobre su necesidad o no de actualización | Z25: =+IFERROR(VLOOKUP($L25,ACTIVIDADES!$B$9:$X$493,15,0),"") -> 0.5 | AA25: =+IFERROR(VLOOKUP($L25,ACTIVIDADES!$B$9:$X$493,16,0),"") -> EJECUCIÓN | AB25: 46181 | AC25: 0.5 | AD25: Mediante la revisión del Tablero de Indicadores y las Fichas Técnicas del proceso de Gestión de Tecnología e Informática, primer tirimestre de 2026, se evidencia la definición de parámetros como objetivos, fórmulas, periodicidad, fuentes y mecanismos de seguimiento. Este soporte demuestra un avance parcial de la acción correctiva; no obstante, el equipo no aporta un registro o análisis documentado que permita validar la pertinencia, utilidad técnica o la necesidad de actualización de los indicadores propuestos En consecuencia, desde la tercera línea de defensa se recomienda complementar la actividad con la evaluación formal de los indicadores existentes y documentar los resultados obtenidos, con el fin de sustentar su mantenimiento, ajuste o eliminación según corresponda. | AE25: EN EJECUCIÓN | AF25: No aplica | AG25: No aplica | AH25: No aplica
A26: =+A25+1 -> 18 | B26: Auditoría interna | C26: 2019 | D26: Subdirección Administrativa y Financiera | F26: 2019_TI_H6 | G26: Se evidencia que la construcción del Plan Estratégico de Tecnologías de la información y las comunicaciones, no se ajustan a las necesidades de la entidad en materia de TI, lo cual dificulta la realización de la planificación de mediano y largo plazo en materia de infraestructura de TIC lo cual incumple lo establecido en la estructura definida por el Ministerio de Tecnologías de la Información y las Comunicaciones a través del documento “G.ES.06 Guía para la construcción del PETI” | I26: 1. Por qué: Porque no se identificaron adecuadamente los factores internos y externos que permitieran identificar las necesidades de la DNBC 2. Por qué: Desconocimiento de la adecuada aplicación del PETI con base a los lineamientos de la entidad, teniendo en cuenta la guía y soporte emitido por el ministerio de las TICs 3. Por qué: El grupo de gestión tecnológica no cuenta con el personal para la planeación y ejecución del plan. | J26: Desconocimiento de la adecuada aplicación del PETI con base a los lineamientos de la entidad, teniendo en cuenta la guía y soporte emitido por el ministerio de las TICs | K26: Acción correctiva | L26: TI_AC7 | M26: Actualizar el Plan Estratégico de Tecnologías de la Información y Comunicaciones de la DNBC con el proyecto actual de estabilización de Servicios Tecnológicos y definición del marco de seguridad y privacidad de la información y de los sistemas de información. | N26: Proceso de PETIC actualizado y verificado. | O26: 1 | P26: 46023 | Q26: 46173 | R26: =DAYS360(P26,Q26)/360*54 -> 22.5 | S26: 18. Gestión de Tecnología e Informática | T26: Reportar seguimiento | U26: =+IFERROR(VLOOKUP($L26,ACTIVIDADES!$B$9:$X$493,10,0),"") -> 0.9 | V26: =+IFERROR(VLOOKUP($L26,ACTIVIDADES!$B$9:$X$493,11,0)," ") -> Se adjunta PETI 2026 actualizado como evidencia de avance, incorporando proyecto de estabilización de servicios tecnológicos, componentes de seguridad y privacidad de la información; documento pendiente de aprobación ante Comité Ejecutivo para su cierre definitivo. | W26: =+IFERROR(VLOOKUP($L26,ACTIVIDADES!$B$9:$X$493,12,0),"") -> https://dnbcgovco-my.sharepoint.com/:f:/g/personal/planeacion_dnbc_gov_co/IgByxAMzp3aqQ5HOb0vu_2CmAa3iwxui5gO6Vlq6RRmJ5SE?e=311D2c | X26: =+IFERROR(VLOOKUP($L26,ACTIVIDADES!$B$9:$X$493,13,0),"") -> 46153 | Y26: =+IFERROR(VLOOKUP($L26,ACTIVIDADES!$B$9:$X$493,14,0),"") -> Se incluye documnto borrador de PETI que debe ser sometido a aprobación del Comité directivo | Z26: =+IFERROR(VLOOKUP($L26,ACTIVIDADES!$B$9:$X$493,15,0),"") -> 0.5 | AA26: =+IFERROR(VLOOKUP($L26,ACTIVIDADES!$B$9:$X$493,16,0),"") -> EJECUCIÓN | AB26: 46181 | AC26: 0.5 | AD26: Se presenta como evidencia un borrador de la actualización del Plan Estratégico de Tecnologías de la Información (PETI) 2026, incorporando componentes relacionados con el diagnóstico tecnológico institucional, la estrategia y el gobierno de TI, la gestión de riesgos, así como aspectos de seguridad y privacidad de la información. Si bien este soporte permite verificar avances significativos en la ejecución de la acción correctiva, se encuentra pendiente de aprobación por la instancia competente. En consecuencia, desde la tercera línea de defensa se determina un cumplimiento parcial, recomendando adelantar su oficialización y generar los registros correspondientes para validar el cierre definitivo del hallazgo. | AE26: EN EJECUCIÓN | AF26: No aplica | AG26: No aplica | AH26: No aplica
