Workbook
Name accion: BBDD!$C$2:$C$5
Name dependencia: [1]bd!$E$3:$E$45
Name eficacia: BBDD!$H$2:$H$3
Name ehallazgo: BBDD!$G$2:$G$3
Name estadoaccion: BBDD!$F$2:$F$5
Name hallazgo: BBDD!$B$2:$B$4
Name modifica: BBDD!$E$2:$E$3
Name Origen: BBDD!$A$2:$A$17
Name proceso: BBDD!$D$2:$D$19
Name tipo_accion: [1]bd!$F$3:$F$5
Name ubicacion_origen: [1]bd!$D$3:$D$72
Name valida: [1]bd!$H$3:$H$4

Sheet Detalle1
A1: Detalles de Cuenta de DESCRIPCIÓN DEL HALLAZGO
A3: Origen del hallazgo | B3: DESCRIPCIÓN DEL HALLAZGO | C3: CUMPLIDO | D3: EN EJECUCIÓN | E3: PENDIENTE DE REVISIÓN | F3: VENCIDO | G3: Total general
A4: Auditoría al sistema de Gestión en Seguridad y Salud en el Trabajo | B4: Aunque se han diseñado programas de mantenimiento preventivo para instalaciones, equipos y vehículos, éstos no se han ejecutado a la fecha, incumpliendo lo establecido en el ítem Mantenimiento periódico de instalaciones, equipos, máquinas, herramientas, del Artículo 16, Resolución 312 de 2019, además corriendo el riesgo de daño de los vehículos, entre otros y conllevando a mantenimientos correctivos, lo cual podría generar un incremento en los costos para la DNBC. | D4: 2 | G4: 2
A5: Auditoria anual control interno contable 2023 | B5: Al interior de la entidad no se tienen establecidos procedimiento internos documentados que faciliten la aplicación de la política de Flujos de Información | C5: 1 | G5: 1
A6: Auditoria anual control interno contable 2023 | B6: Aunque existen lineamientos específicos para la realización de los cruces de información y periódicamente realizar los inventarios, al 31 de diciembre de 2023, no se realizó el Inventario Físico de los Bienes y la conciliación de las provisiones no se realizó de manera mensual sino se consolidaron cuatro (4) meses. | C6: 1 | G6: 1
A7: Auditoria anual control interno contable 2023 | B7: Con relación a la Constitución de las Reservas Presupuestales y Cuentas por pagar no se evidencia el acto administrativo de constitución del Rezago Presupuestal. Con base en los listados emitidos por el SIIF se evidencia: 28 cuentas por pagar $142.044.420.71, las cuales están justificadas y poseen soportes 32 Reservas de Inversión $25.127.071.269 de las cuales 14 tienen justificaciones y soportes que coinciden con el valor de la constitución y 18 presentan diferencia entre el valor escrito en la justificación y lo establecido en el libro o listado.15 Reservas de Funcionamiento $301.518.533.57de las cuales 8 tienen justificaciones y soportes que coinciden con el valor de la constitución y 7 presentan diferencia entre el valor escrito en la justificación y lo establecido en el libro o listado. | C7: 1 | G7: 1
A8: Auditoria anual control interno contable 2023 | B8: El día 24 de agosto de 2024, se llevó a cabo la socialización de las políticas contables al personal involucrado en el proceso contable, no obstante, la resolución aunque incorporó el capitulo de manejo de flujos de información, en la parte resolutiva de esta resolución únicamente se hace alusión al capitulo de prendas de vestir, quedando sin lineamiento la política para Flujos de Información. | C8: 1 | G8: 1
A9: Auditoria anual control interno contable 2023 | B9: El proceso de Gestión Financiera, efectúa conciliaciones entre las áreas para verificar los saldos de las cuentas. De igual forma, se analizan los saldos y se presentan al Comité Técnico de Sostenibilidad Contable, con antelación a la trasmisión en el aplicativo CHIP. No obstante, no se realizó el Inventario Físico ni la Depreciación Acumulada de la Propiedad, Planta y Equipo del mes de Diciembre de 2023. | C9: 1 | D9: 3 | G9: 4
A10: Auditoria anual control interno contable 2023 | B10: La Resolución 381 de 2015, por medio del cual se adopta el Manual para el Manejo Administrativo de los bienes de propiedad de la Dirección Nacional de Bomberos, se consideró en el Capitulo V numeral 5, la Baja y comercialización de bienes usados, obsoletos e inservibles, Mediante la Resolución 433 de 2017, numeral 5,4 de Lineamiento para la Baja en Cuentas de la Propiedad, Planta y Equipo de la DNBC. No obstante, hay elementos en el Inventario que no se encuentran individualizados | D10: 4 | G10: 4
A11: Auditoria anual control interno contable 2023 | B11: Los criterios de medición de los activos, pasivos, ingresos, gastos y costos, son aplicables al objeto y misión de la DNBC. No obstante, en la cuenta de Ingresos se acumuló el recaudo de lo aportado por las aseguradoras de los meses de noviembre y diciembre de 2023 | D11: 1 | G11: 1
A12: Auditoria anual control interno contable 2023 | B12: Los procesos de la entidad al cierre de la vigencia 2023, entregaron parcialmente información a Financiera, en cumplimiento a lo establecido en el Memorando de Cierre, tal es el caso del área de Almacén que no realizó el Inventarió Físico, depreciación y amortización del mes de Diciembre de 2023. | C12: 2 | G12: 2
A13: Auditoria anual control interno contable 2023 | B13: Mediante el procedimiento PC-MC-02 Acciones correctivas, preventivas y de mejora Versión 4, se establece la formulación y el seguimiento al Plan de Mejoramiento como resultado de las Auditorías Internas, en las siguientes actividades: La No. 8 por parte del Líder del Proceso y la No. 13 a través del Proceso de Evaluación y Seguimiento. Con respecto, al seguimiento realizado a los Planes de Mejoramiento derivados de las auditorías externas, este procedimiento hace mención en la actividad No. 1 al (Procedimiento PC-ES-02 Atención de visitas y requerimientos), pero no establece los tiempos. | C13: 1 | G13: 1
A14: Auditoria anual control interno contable 2023 | B14: Mediante la resolución 253 de 2023, se actualizaron las políticas contables, creando los capítulos de Manejo de Prendas de Vestir y Flujos de información; no obstante, en la parte resolutiva de esta resolución únicamente se hace alusión al capitulo de prendas de vestir, quedando sin lineamiento la política para Flujos de Información | C14: 1 | F14: 1 | G14: 2
A15: Auditoria anual control interno contable 2023 | B15: Numeral 10.3 Aunque existen lineamientos específicos para la depuración el seguimiento de las cuentas en las Políticas contables se evidenció en las cuentas del Activo: 1.En la cuenta de Bancos, existe un saldo de $29.8 millones que corresponde a los valores descontados por concepto de la Pila de las vigencia 2019,2020,2022, que hacen referencia a los Retroactivos pero no han sido girado a las EPS. Asimismo, esta cifra incluye el valor de la seguridad social de los pagos realizados por concepto de liquidación de prestaciones sociales de ex funcionarios que se retiraron en la vigencia 2023. 2. En la Cuenta por Cobrar correspondiente a Ingresos no tributarios se evidencia el saldo de $1.223.156,01 correspondiente a un mayor valor cancelado por concepto de Cuota de Auditaje. 4. En la Cuenta 1322 Otras Cuentas por Cobrar están registradas Incapacidades por valor de $27.6 millones, dentro de las cuales algunas ya expiraron y por indicación de la CGN, hay que reclasificar a la cuenta 1384 Pagos por cuenta de terceros. 5.La conciliación por licencias e incapacidades se ha estado haciendo de manera extemporanea con respecto a las fechas de cierre, tal es el caso del cuarto trimestre que se se conciliaron hasta el 05 de febrero de 2024 6. El Saldo de la cuenta de PPyE presenta un saldo de $93.255 millones, pero al realizar la conciliación con el saldo Almacén presenta diferencias. 7. En la cuenta 1384 Recursos de Acreedores reintegrados a Tesorerias existe una partida por concepto que un proveedor no ha entregado 3 vehiculos y se suscribio acta de terminación bilateral. 8. Con relación a la cuenta de prendas de vestir y calzado el area de almacén reporto movimientos con saldo negativo, y como no se realizó la conciliación, quedó en ceros(0) | C15: 4 | D15: 5 | F15: 1 | G15: 10
A16: Auditoria anual control interno contable 2023 | B16: Para la vigencia 2023 no se evidencia la revisión de la vida útil y la depreciación de la Propiedad, Planta y Equipo | C16: 1 | D16: 3 | G16: 4
A17: Auditoria anual control interno contable 2023 | B17: Para la vigencia 2023, no se realizó el deterioro de la PPyE E, debido a que no fue reportada por el Área de Almacén. | C17: 1 | D17: 3 | G17: 4
A18: Auditoria anual control interno contable 2023 | B18: Pendiente | E18: 1 | G18: 1
A19: Auditoria anual control interno contable 2023 | B19: Por medio de la Resolución 433 del 2017 en el articulo 5.2 y 5.3 se estipula la depreciación y amortización de los bienes de la DNBC. No obstante, no se le realizó la Depreciación a la Propiedad, Planta y Equipo del mes de diciembre debido a que no se realizó el Inventario físico a este corte. La PPyE, quedó registrada al 30 de noviembre de 2023 | C19: 1 | D19: 3 | G19: 4
A20: Auditoria anual control interno contable 2023 | B20: Por medio de la Resolución 433 del 2017 en el articulo 5.2 y 5.3 se estipula la depreciación y amortización de los bienes de la DNBC. Sin embargo al no realizarse Inventario físico al 31 de diciembre de 2023 no fue posible generar la depreciación y amortización del mes de Diciembre de 2023 | C20: 1 | D20: 3 | G20: 4
A21: Auditoria anual control interno contable 2023 | B21: Por medio de los Cruces de inventarios, Legalizaciones de Viáticos, diferencias en nómina, Nóminas mensuales, actas entre otros, se informa al área contable las transacciones y movimientos realizados por los diferentes procesos; sin embargo, la resolución 253 de 2023 no indicó los documentos idóneos por medio de los cuales se informa al área contable | C21: 1 | G21: 1
A22: Auditoria anual control interno contable 2023 | B22: V5 Procedimiento de gestión de Bienes vigente desde el 02 de noviembre de 2023 incorporó en el numeral 6.2 la ejecución de inventarios físicos, el Inventario Físico se realizó con fecha corte al 30 de noviembre de 2023. Es decir, no se cuenta con el Inventario Físico al 31 de diciembre de 2023. | C22: 1 | D22: 4 | G22: 5
A23: Auditoría Gestión Contractual | B23: El proceso de Gestión Contractual presenta incumplimiento en los tiempos y debilidades en los controles establecidos actualmente, lo cual va en contravía a lo establecido en el actual Manual de Contratación institucional el cual determina que: “5. PLANEACIÓN DE LA GESTIÓN CONTRACTUAL La planeación será el pilar de los todos los procesos contractuales que adelante la Dirección Nacional de Bomberos. La aplicación de este principio implicara contar con un plan que consolide y priorice las adquisiciones de la dirección, teniendo en cuenta las necesidades diagnosticadas, la realización de estudios y análisis antes de iniciar un procedimiento de selección...” dicha priorización no se evidencia en los instrumentos actuales de la gestión contractual, por lo cual se estructura la presente No Conformidad. | D23: 1 | G23: 1
A24: Auditoría Gestión Contractual | B24: Se evidenció que la “Constancia de idoneidad y experiencia” en los contratós de Prestación de servicios profesionales No. 014, 022, 087 y 089 del 2018, y en el documento “Verificación de los documentos de la propuesta” de los contratós de prestación de servicios No. 006, 014, 081, 087, 088 y 089 de 2018 expedidos y suscritos por el Subdirector Administrativo y Financiero de la DNBC, registraron información que no fue fidedigna a la aportada por el contratista, situación que denota que los controles presentaron debilidades al generarse documentos oficiales con inconsistencias, incumpliendo lo establecido en el MIPG - Dimensión 3 Gestión con valores para resultados - cuando señala: “... los aspectos mínimos que una entidad debe tener en cuenta para trabajar por procesos son los siguientes: …- Documentar y formalizar los procesos para identificar el aporte que cada uno hace a la prestación del servicio y la adecuada gestión, - Definir los responsables del proceso y sus obligaciones, -Identificar los riesgos del proceso, así como establecer los controles correspondientes. - Definir los controles de medición y seguimiento correspondientes”. | F24: 2 | G24: 2
A25: Auditoria Interna al Proceso Educación Nacional para Bomberos | B25: Aplicativo ORFEO Se realizó cruce de la información generada en el proceso frente a la registrada en el aplicativo ORFEO, con lo cual se evidenciaron las siguientes debilidades del aplicativo, así:  No arroja un reporte con las variables necesarias para realizar un cruce efectivo para un periodo que contenga dos vigencias  En el campo “dependencia actual” se diligencia generalmente como “Dependencia de Salida”, lo cual no permite identificar todos los registros asociados a una dependencia de la DNBC.  Al exportar la información a Excel, el aplicativo agrega dos (2) espacios en el campo “Radicado” de cada uno de los registros, lo cual dificultó el cruce con las bases de datos del proceso Lo anterior incumple lo establecido en la 5 Dimensión Información y Comunicación del MIPG “Identificar y gestionar la información y comunicación interna” el cual señala “(…) Se debe garantizar su registro y divulgación oportuna, exacta y confiable, en procura de la realización efectiva y eficiente de las operaciones, soportar la toma de decisiones y permitir a los servidores un conocimiento más preciso y exacto de la entidad”. | C25: 1 | D25: 1 | F25: 1 | G25: 3
A26: Auditoria Interna al Proceso Educación Nacional para Bomberos | B26: Aval y reconocimiento de instructores Se evidenció que no se ha definido con claridad el método/soporte válido para acreditar la antigüedad como bombero de mínimo 5 años, ya que las unidades bomberiles están aportando para este requisito la Hoja de vida en formato común, en otros casos la hoja de vida Bomberil, sin la firma de comandante de su CB, inclusive se adjunta un formato de hoja de vida en idioma inglés, además no legible, incumpliendo lo establecido en el artículo 39 “Requisitos para ser instructor” de la resolución 1127 de 2018 | C26: 1 | G26: 1
A27: Auditoria Interna al Proceso Educación Nacional para Bomberos | B27: Documentación: En revisión de la documentación del proceso se encontró que la actividad 7 de la Caracterización “Realizar acciones de asesoría por medio del Comité Académico (…)” se encuentra clasificada como una actividad de “verificar”, sin embargo, de acuerdo con su naturaleza, realmente corresponde al “hacer” ya que es una acción de la misionalidad del proceso. Así mismo, Procedimiento para Registro de Capacitación Bomberil y Firma de Certificados, en las definiciones la actividad de control la señalan con Símbolo (©) y en la matriz de actividades la representan con (ACC), Así mismo, se aprecia que en los diagramas de flujo hay un conector A, que no tiene destino. Adicionalmente, se observó, que no hay estandarización en la denominación del servicio el “Aval y Reconocimiento de Instructores” por cuanto en el Manual, procedimiento y OPA tienen denominaciones diferentes lo cual genera confusión a las partes interesadas. Lo cual podría incumplir lo establecido en el MIPG Dimensión: Gestión con valores para resultados el cual señala “Definir la secuencia de cada una de las diferentes actividades del proceso, desagregándolo en procedimientos o tareas” | C27: 1 | F27: 1 | G27: 2
A28: Auditoria Interna al Proceso Educación Nacional para Bomberos | B28: Indicadores Se evidenció que no se han formulado indicadores para medir el cumplimiento de las actividades establecidas en la caracterización del proceso tales como reconocimiento de centros de entrenamiento de brigadas contraincendio y reconocimiento de escuelas de formación para Bomberos, actividades relacionadas intrínsecamente con el objetivo del proceso, lo cual incumple lo establecido en dimensión 1 Direccionamiento Estratégico y Planeación del MIPG “(…) Definir los indicadores a utilizar y el método de construcción que más se adapte a la propia dinámica y cultura organizacional”. | C28: 1 | G28: 1
A29: Auditoria Interna al Proceso Educación Nacional para Bomberos | B29: Plan de Acción Realizando el análisis del cumplimiento de los productos del proceso, se encontró que el plan de acción contempla veinticuatro (24) productos, suministrado en desarrollo de la auditoria, difiere del plan de acción publicado en la página web de la DNBC, para la vigencia 2022, el cual registra 17 productos, por cuanto no contempla los siguientes productos. • Foro de Control de Incendios • Cursos de formación bomberil • Monitoreo y seguimiento a los Riesgos de Gestión • Reporte de seguimiento al PAAC • Reporte trimestral de Indicadores de gestión del proceso • Monitoreo periódico de avance de los referentes estratégicos institucionales • Documentación Sistema de Gestión DNBC Lo cual incumple el Principio de la divulgación proactiva de la información señalado en el artículo 3. Otros principios de la transparencia y acceso a la información pública. de la Ley 1712 de 2014 el cual establece que “(…) lo que conlleva la obligación de publicar y divulgar documentos y archivos que plasman la actividad estatal y de interés público, de forma rutinaria y proactiva, actualizada, accesible y comprensible” | D29: 1 | G29: 1
A30: Auditoria Interna al Proceso Educación Nacional para Bomberos | B30: Reconocimiento de Centros de Entrenamiento de Brigadas Contra Incendios Se evidenció documentos en el aplicativo ORFEO con restricciones, por lo que no se pueden consultar como es el caso de la respuesta al radicado 20213800102572, incumpliendo lo establecido en la Ley 1712 de 2014, Por medio de la cual se crea la Ley de Transparencia y del Derecho de Acceso a la Información Pública Nacional y se dictan otras disposiciones. | C30: 1 | G30: 1
A31: Auditoria Interna al Proceso Educación Nacional para Bomberos | B31: Se encontró debilidad en el control para verificar los soportes aportados por las unidades bomberiles para optar por el aval como instructor, por cuanto se evidenció que se otorgaron avales sin que se hayan cargado los soportes correspondientes en el aplicativo ORFEO como es el caso de las solicitudes con radicados 20211140118912 y 20221140135982, incumpliendo lo establecido en el artículo 39 “Requisitos para ser instructor” de la resolución 1127 de 2018. | C31: 1 | G31: 1
A32: Auditoria Interna al Proceso Educación Nacional para Bomberos | B32: Se evidencia debilidad en los controles implementados por el Proceso por cuanto, se encontraron los consecutivos 330, 333 y 334 de la vigencia 2022 sin número de radicado de entrada en la base de datos de Registros de cursos de formación bomberil, y con los cuales se otorgaron cuatro (4) registros. Así mismo, en la base de datos de firma de certificados se encontraron 12 registros sin el radicado de entrada y de los cuales solo uno (1) tiene radicado de salida. Lo anterior incumple lo establecido en la actividad 1 de “Asignación registro de cursos de formación bomberil” y de “Firma de Certificados de Cursos de Formación Bomberil” del Procedimiento para Registro de Capacitación Bomberil y Firma de Certificados, que establecen “Recibir los documentos de solicitud de registro de cursos de formación bomberil / de firma de certificados”, por parte de los Cuerpos de Bomberos de Colombia, en la oficina de atención al usuario de la DNBC o en la cuenta de correo: atencionciudadano@dnbc.gov.co”. Así como, la actividad 4 de “Firma de Certificados de Cursos de Formación Bomberil” “Ingresar los datos de los certificados del curso de formación bomberil, en la base de datos de Excel, para seguimiento y trazabilidad en la nube (ACC).” | C32: 1 | G32: 1
A33: Auditoria Interna al Proceso Educación Nacional para Bomberos | B33: Se evidencia que los soportes de los radicados en Orfeo, no se están digitalizando de manera consecutiva, como lo observado en el aval de instructores del 03-10-2021, del curso Inspector de seguridad autorizado al Cuerpo de Bomberos Voluntarios La Mesa, mediante registro 017-2022 que consta de dos (2) hojas, del cual aparece la primera hoja al inicio de los documentos y la segunda hoja, es decir en donde se encuentra la firma del aval se encuentra en la parte final de todos los documentos escaneados generando confusión en cuanto a la consistencia de los soportes, incumpliendo el artículo 11. obligatoriedad de la conformación de los archivos públicos de la Ley 594 de 2000 que señala “El Estado está obligado a la creación, organización, preservación y control de los archivos, teniendo en cuenta los principios de procedencia y orden original, el ciclo vital de los documentos y la normatividad archivística” el subrayado es nuestro. | C33: 1 | G33: 1
A34: Auditoria Interna al Proceso Educación Nacional para Bomberos | B34: Se evidenció demora en la respuesta de solicitudes de aval de instructores, por cuanto El CBV Alcalá solicitó ratificar el aval como instructor de Christian Ramírez mediante radicado 20221140152592 del 24/05/2022 al cual a la fecha no se le ha dado respuesta, incumpliendo el plazo para otorgar el aval y reconocimiento de instructores de bomberos, que es de 15 días hábiles establecido en el aplicativo SUIT del DAFP. | C34: 1 | G34: 1
A35: Auditoria Interna al Proceso Educación Nacional para Bomberos | B35: Se evidenció en el ejercicio de la auditoria que se otorgaron registros 157-2021, 156-2021, 023-2022, 257-2022 y 130-2022, los cuales se autorizaron con cupo superior al establecido en la normativa, incumpliendo lo establecido en el parágrafo 1 del artículo 31, de la resolución 1127 de 2018, el cual establece “Verificada la totalidad de los requisitos enunciados, la DNBC enviará al solicitante, a través de correo electrónico, el número y la fecha de registro aprobado, para dar inicio al curso respectivo. El número de registro será para un cupo de máximo de treinta (30) participantes.” | D35: 1 | G35: 1
A36: Auditoria Interna al Proceso Educación Nacional para Bomberos | B36: Se evidenció que en la página web de la entidad, así como en la documentación del proceso no se han publicado los requisitos para el Reconocimiento de Centros de Entrenamiento de Brigadas Contra Incendios plasmados en la resolución 256 de 2014, con lo cual no se tiene claridad frente a los criterios para que los Cuerpos de Bomberos puedan optar por dicho reconocimiento para su Institución, incumpliendo lo establecido en la Ley 1712 de 2014 articulo 7 “Disponibilidad de la Información.” y la Dimensión 6. Información y Comunicación de MIPG, la cual señala “Tenga en cuenta que, respecto a la publicación de información de manera proactiva, el derecho de acceso a la información no radica únicamente en la obligación de dar respuesta a las peticiones, sino también en el deber de publicar y divulgar documentos y archivos de valor para el ciudadano y que constituyen un aporte en la construcción de una cultura de transparencia”. | F36: 1 | G36: 1
A37: Auditoria Interna al Proceso Educación Nacional para Bomberos | B37: Se realizó modificación al formato establecido por la DNBC para los certificados del registro del curso, evidenciado en el registro 032-2021, incumpliendo el numeral 6 del PARÁGRAFO 4. del Artículo 31. de la Resolución 1127 de 2018, que señala “Certificados: La Dirección Nacional de Bomberos establecerá el modelo de certificado, el cual no deberá sufrir modificación o adulteración de ningún tipo. (…)”. | C37: 1 | G37: 1
A38: Auditoria Interna al Sistema de Gestión en Seguridad y Salud en el Trabajo 2021 | B38: Se evidenció que la entidad durante la vigencia 2021 no ha suscrito contrato para realizar el mantenimiento de los vehículos y en la actualidad el vehículo Volkswagen Amarok de placas ZXW 532 se encuentra varado, adicionalmente no se cuenta con los soportes de la ejecución del mantenimiento preventivo y correctivo de las instalaciones, incumpliendo lo establecido en el Decreto 1072 de 2015, artículo 2.2.4.6.24 Medidas de prevención y control, parágrafo 2 | D38: 1 | G38: 1
A39: Auditoria Interna al Sistema de Gestión en Seguridad y Salud en el Trabajo 2021 | B39: Se evidenció que se cuenta con un documento borrador del plan estratégico de seguridad vial, sin embargo, a la fecha no se ha realizado el diagnostico de seguridad vial, así como la capacitación a los actores viales, incumpliendo lo establecido en la ley 1503 de 201, articulo 12 | D39: 1 | G39: 1
A40: Auditoria Interna al Sistema de Gestión en Seguridad y Salud en el Trabajo 2021 | B40: Se observó que la Entidad se encuentra realizando el pago de riesgos laborales de Contratistas que tienen formación Bomberil, sin embargo, al verificar las obligaciones de una muestra de cinco (5) contratos, se evidenció que cuatro (4) de ellos solo tienen obligaciones de tipo administrativo, incumpliendo lo establecido en el artículo 2 de la Resolución 2087 de 2013 | F40: 1 | G40: 1
A41: Auditoria Interna al Sistema de Gestión en Seguridad y Salud en el Trabajo 2022 | B41: Aunque el Equipo de Seguridad y Salud en el trabajo ha realizado inducción en SST al personal del Aseo y Cafetería, al igual que al personal que realizó la adecuación de la pantalla de la sala situacional, se evidenció que no se realizó la capacitación en SST antes de iniciar labores a todo el personal de prestación de servicios vinculado a la entidad, incumpliendo lo establecido en el parágrafo 2 del artículo 2.2.4.6.11 del decreto 1072 de 2015. | F41: 1 | G41: 1
...

Sheet Hoja13
A3: Etiquetas de fila | B3: Cuenta de DESCRIPCIÓN DEL HALLAZGO | C3: Suma de CUMPLIDO | D3: Suma de EN EJECUCIÓN | E3: Suma de VENCIDO
A4: Auditoría al sistema de Gestión en Seguridad y Salud en el Trabajo | B4: 1 | D4: 2
A5: Auditoria anual control interno contable 2023 | B5: 18 | C5: 19 | D5: 29 | E5: 2
A6: Auditoría Gestión Contractual | B6: 2 | D6: 1 | E6: 2
A7: Auditoria Interna al Proceso Educación Nacional para Bomberos | B7: 13 | C7: 10 | D7: 3 | E7: 3
A8: Auditoria Interna al Sistema de Gestión en Seguridad y Salud en el Trabajo 2021 | B8: 3 | D8: 2 | E8: 1
A9: Auditoria Interna al Sistema de Gestión en Seguridad y Salud en el Trabajo 2022 | B9: 4 | C9: 1 | D9: 3 | E9: 3
A10: Auditoria Interna al Sistema de Gestión en Seguridad y Salud en el Trabajo vigencia 2020 | B10: 1 | D10: 2
A11: Decreto 491 de 2020 | B11: 1 | D11: 1
A12: Evaluación al grado de eficacia, eficiencia y efectividad del proceso de Gestión Contractual, la administración de los riesgos, los controles y el cumplimiento de la normatividad legal vigente | B12: 4 | C12: 3 | D12: 1
A13: Evaluación Control Interno Contable de la vigencia 2020 | B13: 8 | C13: 7 | D13: 6
A14: Gestión Administrativa | B14: 2 | D14: 3
A15: INFORME DE SEGUIMIENTO DEL ESTADO ACTUAL DE LA INFORMACIÓN REGISTRADA POR LA DIRECCIÓN NACIONAL DE BOMBEROS, EN EL SISTEMA DE INFORMACIÓN Y GESTIÓN DEL EMPLEO PÚBLICO (SIGEPII) | B15: 2 | D15: 3
A16: INFORME DE SEGUIMIENTO Y EVALUACION AL TRATAMIENTO DE LAS PETICIONES, QUEJAS, RECLAMOS, SOLICITUDES Y DENUNCIAS RECIBIDAS EN EL PERIODO COMPRENDIDO ENTRE EL 1 DE ENERO AL 30 DE JUNIO | B16: 10 | C16: 3 | D16: 8 | E16: 1
A17: Informe Seguimiento Ley 1712 de 2014- Ley de Transparencia y del derecho de acceso a la información pública nacional". | B17: 5 | C17: 3 | D17: 5 | E17: 1
A18: Informe Auditoria Proceso Gestión Contractual - Vigencia 2022 | B18: 42 | C18: 2 | D18: 38 | E18: 2
A19: Informe de Auditoría al proceso Coordinación Operativa | B19: 3 | C19: 1 | D19: 2
A20: Informe de Auditoría al proceso Gestión Documental | B20: 12 | D20: 12
A21: Informe de Austeridad en el Gasto IV Trimestre de 2020. | B21: 2 | C21: 1 | D21: 2 | E21: 1
A22: Informe de Control Interno Contable vigencia 2024 | B22: 16 | C22: 11 | D22: 15
A23: Informe de seguimento Austeridad III trimestre de 2020 | B23: 1 | C23: 1
A24: Informe de seguimiento del estado actual de la información registrada por la Dirección Nacional de Bomberos, en el sistema de Información y gestión del empleo público (SIGEPII) | B24: 5 | D24: 6
A25: INFORME DE SEGUIMIENTO Y EVALUACION AL TRATAMIENTO DE LAS PETICIONES, QUEJAS, RECLAMOS, SOLICITUDES Y DENUNCIAS RECIBIDAS EN EL PERIODO COMPRENDIDO ENTRE EL 1 DE ENERO AL 30 DE JUNIO DE 2023 | B25: 7 | C25: 2 | D25: 5
A26: INFORME DE SEGUIMIENTO Y EVALUACION AL TRATAMIENTO DE LAS PETICIONES, QUEJAS, RECLAMOS, SOLICITUDES Y DENUNCIAS RECIBIDAS EN EL PERIODO COMPRENDIDO ENTRE EL 1 DE JULIO AL 31 DE DICIEMBRE DE 2023 | B26: 5 | C26: 4 | D26: 6
A27: Informe detallado de seguimiento y evaluación al tratamiento de las peticiones, quejas, reclamos, solicitudes y denuncias recibidas en el periodo comprendido entre el 1 de enero y el 30 de junio de 2021 | B27: 3 | C27: 2 | E27: 1
A28: Informe detallado de seguimiento y evaluacion al tratamiento de las peticiones, quejas, reclamos, solicitudes y denuncias recibidas en el periodo comprendido entre el 1 de julio al 31 de diciembre de 2022. | B28: 10 | C28: 6 | D28: 8
A29: Informe Ejecutivo seguimiento del estado actual de la información registrada por la DNBC, en el SIGEP vigencia 2024. | B29: 10 | D29: 9 | E29: 6
A30: Informe Rezago Presupuestal 2020 | B30: 8 | C30: 16 | D30: 2 | E30: 1
A31: Informe seguimiento al comité de conciliacion de la DNBC correspondiente al primer semestre de 2023 | B31: 2 | D31: 1 | E31: 1
A32: INFORME SEGUIMIENTO AL GRADO DE CUMPLIMIENTO DE LAS NORMAS DE AUSTERIDAD Y EFICIENCIA DEL GASTO PÚBLICO A 30 DE JUNIO DE 2020 | B32: 2 | C32: 3
A33: Informe seguimiento al grado de cumplimiento de las normas de austeridad y eficiencia del gasto público a 31/12/2021 | B33: 5 | D33: 5
A34: Informe Seguimiento Austeridad Gasto I Trimestre de 2022 | B34: 22 | C34: 12 | D34: 31 | E34: 1
A35: Informe Seguimiento Austeridad Gasto II Trimestre de 2022 | B35: 24 | C35: 13 | D35: 27 | E35: 3
A36: Informe Seguimiento Austeridad Gasto III Trimestre de 2022 | B36: 8 | C36: 6 | D36: 7
A37: Informe Seguimiento Austeridad Gasto IIl Trimestre de 2021 | B37: 8 | C37: 5 | D37: 7
A38: Informe Seguimiento Austeridad Gasto Il Trimestre de 2021 | B38: 7 | C38: 4 | D38: 8 | E38: 3
A39: Informe Seguimiento Austeridad Gasto IV Trimestre de 2022 | B39: 10 | C39: 5 | D39: 11
A40: Informe Seguimiento Austeridad Gasto l Trimestre de 2021 | B40: 2 | D40: 3 | E40: 1
A41: Informe Semestral del Estado de Control Interno de DNBC por el periodo comprendido entre el 1 de enero al 30 de junio de 2022 | B41: 33 | C41: 10 | D41: 33
A42: Informe Semestral del Estado de Control Interno de DNBC por el periodo comprendido entre el 1 de Julio o al 31 de Diciembre de 2021 | B42: 17 | C42: 3 | D42: 20
...

Sheet Hoja11
A1: TIPO DE AUDITORIA | B1: Auditoría interna
A2: VIGENCIA | B2: (Todas)
A4: Cuenta de DEPENDENCIA | B4: Etiquetas de columna
A5: Etiquetas de fila | B5: CUMPLIDO | C5: EJECUCIÓN | D5: PENDIENTE DE REVISIÓN | E5: VENCIDO | F5: Total general
A6: Auditoría al sistema de Gestión en Seguridad y Salud en el Trabajo | C6: 2 | F6: 2
A7: Auditoria anual control interno contable 2023 | B7: 19 | C7: 29 | D7: 1 | E7: 2 | F7: 51
A8: Auditoría Gestión Contractual | C8: 1 | E8: 2 | F8: 3
A9: Auditoria Interna al Proceso Educación Nacional para Bomberos | B9: 10 | C9: 3 | E9: 3 | F9: 16
A10: Auditoria Interna al Sistema de Gestión en Seguridad y Salud en el Trabajo 2021 | C10: 2 | E10: 1 | F10: 3
A11: Auditoria Interna al Sistema de Gestión en Seguridad y Salud en el Trabajo 2022 | B11: 1 | C11: 3 | E11: 3 | F11: 7
A12: Auditoria Interna al Sistema de Gestión en Seguridad y Salud en el Trabajo vigencia 2020 | C12: 2 | F12: 2
A13: Decreto 491 de 2020 | C13: 1 | F13: 1
A14: Evaluación al grado de eficacia, eficiencia y efectividad del proceso de Gestión Contractual, la administración de los riesgos, los controles y el cumplimiento de la normatividad legal vigente | B14: 3 | C14: 1 | F14: 4
A15: Evaluación Control Interno Contable de la vigencia 2020 | B15: 7 | C15: 6 | F15: 13
A16: Al verificar el Inventario final al 31-12-2020, se evidencia un listado de bienes pero el mismo no está totalizado por cada una de las cuentas de la Propiedad, Planta y Equipo, al igual no cuenta con la respectiva firma del Almacenista ni el Subdirector Administrativo y Financiero. Con respecto a las cuentas del Pasivo, no se están conciliando los saldos con las diferentes areas al interior de la entidad, al igual que No existen procedimientos ni lineamientos para estos cruces de Información. | B16: 1 | C16: 3 | F16: 4
A17: Cada una de las transacciones financieras están respaldadas con los soportes idóneos y requeridos para su registro. Sin embargo en lo que respecta a las constitución de las reservas presupuestales y las cuentas por pagar; se evidenció que en algunas la justificación técnica y juridica es insuficiente para sustentar el caso fortuito o fuerza mayor para la generación de las Reservas, adicionalmente no fueron suministrados la totalidad de los soportes documentales de la constitución de las reservas de funcionamiento que son (10), de las cuentas por pagar de inversión (7), y de las reservas de Inversión únicamente se anexaron (6) evidencias de las (12) constituidas. | B17: 2 | F17: 2
A18: Como resultado del seguimiento al Control Interno Contable, realizado por la Asesora de Control Interno de la DNBC, se generaron hechos económicos de actualización, los cuales no fueron tenidos en cuenta, como fue el caso de la política para la conciliación de saldos, Política para los flujos de información, ni un lineamiento sobre la identificación de los bienes fisicos en forma individualizada entre otros. | B18: 1 | F18: 1
A19: Dentro del Plan de Capacitación de la entidad, no se evidencia capacitación a los funcionarios del Area Financiera que apunten al mejoramiento de competencias y habilidades. De igual forma, es ncesria la respectiva verificación del cumplimiento del mismo. | C19: 1 | F19: 1
A20: En la vigencia 2020 no se socializó el procedimiento del proceso de Gestión Administrativa PC-AD-01 Procedimiento Gestión de Bienes. | C20: 1 | F20: 1
A21: Las cuentas del Pasivo, no están siendo conciliadas con las diferentes areas al interior de la entidad, al igual que No existen procedimientos ni lineamientos para estos cruces de Información. De igual forma, requiere de socialización. | B21: 2 | F21: 2
A22: Pendiente | B22: 1 | F22: 1
A23: Se encontró que el Proceso Gestión Financiera no esta realizando el respectivo monitoreo a la formulación y ejecución de las acciones de mejora derivadas de la evaluación al Control Interno Contable,ya que no se establecieron acciones de mejora para algunos items del presente cuestionario, que quedaron por ejecutar en la vigencia 2019. | C23: 1 | F23: 1
A24: Gestión Administrativa | C24: 3 | F24: 3
A25: A pesar de establecer un sistema de control en la información de los inventarios a través del Excel, se encontró que no se cuenta con mecanismos de control necesario como es (Software de inventarios) que garanticen la contabilización y confiabilidad de la información recibida y generada, para el ingreso, entrega y actualización de inventario. Se evidencia que se estableció la Compra de Software de inventario, el en el Plan Anual de Adquisiciones de este año, por valor de $ 80.000.000, el cual a la fecha no se ha comprado por falta de recursos en la DNBC. Teniendo en cuenta lo anterior, el proceso de gestión administrativa, afirma que personal encargado del almacén diseñó una base de datos que permite la contabilización de la información recibida y generada, para el ingreso, entrega y actualización de inventario, así mismo informan que el día 14 de octubre de 2016 se actualizó el Plan Anual de Adquisiciones y se retiró del mismo la adquisición del Software de inventarios ya que no se cuenta con presupuesto disponible para su compra. No se posee un Programa Sistemático de Inventarios, que lleve un adecuado control, tanto de entradas como salidas de elementos. Asimismo, que permita de manera inmediata reflejar cantidades, valores unitarios, totales y el centro de costo (ubicación) del bien. | C25: 1 | F25: 1
A26: Se evidenció que no se han establecido los requisitos ambientales para la compra de productos y servicios. Aunque Gestión Administrativa, ha identificado los requisitos ambientales para la adquisición de insumos y servicios al interior de la entidad, dichos requisitos no han sido establecidos formalmente en el proceso de Gestión Contractual (Compras verdes). Dicha observación ha sido recurrente ya que se había evidenciado en la auditoría de la vigencia 2016. | C26: 2 | F26: 2
A27: INFORME DE SEGUIMIENTO DEL ESTADO ACTUAL DE LA INFORMACIÓN REGISTRADA POR LA DIRECCIÓN NACIONAL DE BOMBEROS, EN EL SISTEMA DE INFORMACIÓN Y GESTIÓN DEL EMPLEO PÚBLICO (SIGEPII) | C27: 3 | F27: 3
A28: CATALOGO REPORTES SIGEPII *Actualización hoja de Vida contratistas: Del catálogo del SIGEPII solo 24 contratistas actualizaron su hoja de vida en el sistema para la vigencia 2021, de los cuales 13 figuran en la base datos aportada por contratación (116 contratistas), es decir que: •Falta el registro de 103 contratistas por actualizar su hoja de vida, incumpliéndose con ello lo establecido en el numeral 3 del artículo 2.2.17.10 Formato de hoja de vida. Del Decreto 1083 de 2015 que establece “(…) Están obligados a diligenciar el formato único de hoja de vida, (…) .Los contratistas de prestación de servicios, previamente a la celebración del contrato” •En el catálogo del SIGEPII, se encontraron once (11) contratistas de los cuales no se evidencia vínculo con la Entidad. *Contratos de prestación de servicios profesionales: Verificado el reporte del SIGEPII “Contratos de prestación de servicios profesionales”, se observó que solo registra un (1) contratista para la vigencia 2021, con lo cual se evidencia que no está cumpliendo el artículo 2.2.17.7 del Decreto 1083 de 2015.•Asi mismo De los 22 contratistas del catálogo del SIGEPII, se encontraron cuatro (4) registros repetidos de los reportados por contratación y cinco (5) que no se evidencia vínculo con la Entidad para el periodo objeto del seguimiento, dentro de los cuales también hay tres (3) que están repetidos *Roles de usuarios activos: •De los 116 contratistas de la base datos aportada por contratación se evidenció que 38 de los contratistas no tienen asignado el rol para acceder al sistema, con lo cual se evidencia que no está cumpliendo el artículo 2.2.17.7 del Decreto 1083 de 2015 . •Respecto del rol operador de contratos, único que coincide con el habilitado de la Entidad, se evidencia que no está cumpliendo a cabalidad con las responsabilidades establecidas en el artículo 2.2.17.7 del Decreto 1083 de 2015. •En el reporte se aprecia que el rol de administrador de Entidades está asignado a un servidor público, del cual se evidencia que no está cumpliendo a cabalidad las responsabilidades establecidas en el artículo 2.2.17.7 del Decreto 1083 de 2015 •De la Información reportada en el catálogo Roles de usuarios activos, como se observa en la matriz, las cantidades no corresponden con los roles asignados, cargos de los servidores y contratistas activos, con lo cual se ratifica el incumplimiento señalado al artículo 2.2.17.7 del Decreto 1083 de 2015 •También se apreció inconsistencia en el número de identificación y contratistas que no pertenecen a la DNBC *Consulta de hojas de vida aprobadas de la entidad+G10 •Para los servidores públicos, en el campo “Fecha de Aprobación de la Hoja de Vida” 28 figuran con fecha 04/12/2021 y uno con fecha 20/03/2018, fechas que no corresponden con las de posesión de los servidores, con lo cual se evidencia que no se está cumpliendo a cabalidad las responsabilidades establecidas en el artículo 2.2.17.7 del Decreto 1083 de 2015 •De los 116 contratistas se observó que 38 no figuran en el catálogo, 32 que no registran Fecha de Aprobación de la Hoja de Vida y 39 que tienen la fecha que no corresponde al inicio del contrato de la vigencia 2021, con lo cual se evidencia que no se está dando cumplimiento a cabalidad las responsabilidades establecidas en el artículo 2.2.17.7 del Decreto 1083 de 2015 Datos personales de servidores públicos y contratistas por entidad •De los 116 contratistas, se evidencio que al realizar el cruce por número de identificación 40 no figuran en el catálogo, por lo tanto la información es incompleta, con lo cual se evidencia que no están dando cumplimiento a cabalidad las responsabilidades establecidas en el artículo 2.2.17.7 del Decreto 1083 de 2015 •Así mismo, se presentan inconsistencias en la información que genera el reporte como es el caso de Contratistas que según los registros figuran como “Vinculados a cargo de planta”, como es el caso de Claudia Quintero Franklin y Julio Cesar García Triana, también se apreció que todos los contratistas figuran que “no tiene Contrato asignado en la entidad”, con lo cual se evidencia la falta de control por parte de quien tiene asignado el rol de Operador de Contratos. *Contratos finalizados x fecregis y pendiente fin Se observó que solo tiene un registro para la vigencia 2021 y que aún figura en estado activo – Carolina Escarraga, sin que se hubiese hecho el registro de los 115 contratistas restantes *Educación formal de los servidores públicos vinculados y contratistas con contrato activo en la entidad: De los 116 contratistas se observó que tan solo figura el registro de Carolina Escarraga Trejos, con ello evidenciándose que 115 contratistas no reportan la información requerida, sin que esto haya sido evidenciado por quien tiene asignado el rol de administrador de entidades, con ello, estableciéndose el incumplimiento al artículo 2.2.17.7 del Decreto 1083 de 2015 | C28: 1 | F28: 1
A29: CATALOGO REPORTES SIGEPII *Actualización hoja de Vida contratistas: Del catálogo del SIGEPII solo 24 contratistas actualizaron su hoja de vida en el sistema para la vigencia 2021, de los cuales 13 figuran en la base datos aportada por contratación (116 contratistas), es decir que: •Falta el registro de 103 contratistas por actualizar su hoja de vida, incumpliéndose con ello lo establecido en el numeral 3 del artículo 2.2.17.10 Formato de hoja de vida. Del Decreto 1083 de 2015 que establece “(…) Están obligados a diligenciar el formato único de hoja de vida, (…) .Los contratistas de prestación de servicios, previamente a la celebración del contrato” •En el catálogo del SIGEPII, se encontraron once (11) contratistas de los cuales no se evidencia vínculo con la Entidad. *Contratos de prestación de servicios profesionales: Verificado el reporte del SIGEPII “Contratos de prestación de servicios profesionales”, se observó que solo registra un (1) contratista para la vigencia 2021, con lo cual se evidencia que no está cumpliendo el artículo 2.2.17.7 del Decreto 1083 de 2015.•Asi mismo De los 22 contratistas del catálogo del SIGEPII, se encontraron cuatro (4) registros repetidos de los reportados por contratación y cinco (5) que no se evidencia vínculo con la Entidad para el periodo objeto del seguimiento, dentro de los cuales también hay tres (3) que están repetidos *Roles de usuarios activos: •De los 116 contratistas de la base datos aportada por contratación se evidenció que 38 de los contratistas no tienen asignado el rol para acceder al sistema, con lo cual se evidencia que no está cumpliendo el artículo 2.2.17.7 del Decreto 1083 de 2015 . •Respecto del rol operador de contratos, único que coincide con el habilitado de la Entidad, se evidencia que no está cumpliendo a cabalidad con las responsabilidades establecidas en el artículo 2.2.17.7 del Decreto 1083 de 2015. •En el reporte se aprecia que el rol de administrador de Entidades está asignado a un servidor público, del cual se evidencia que no está cumpliendo a cabalidad las responsabilidades establecidas en el artículo 2.2.17.7 del Decreto 1083 de 2015 •De la Información reportada en el catálogo Roles de usuarios activos, como se observa en la matriz, las cantidades no corresponden con los roles asignados, cargos de los servidores y contratistas activos, con lo cual se ratifica el incumplimiento señalado al artículo 2.2.17.7 del Decreto 1083 de 2015 •También se apreció inconsistencia en el número de identificación y contratistas que no pertenecen a la DNBC *Consulta de hojas de vida aprobadas de la entidad •Para los servidores públicos, en el campo “Fecha de Aprobación de la Hoja de Vida” 28 figuran con fecha 04/12/2021 y uno con fecha 20/03/2018, fechas que no corresponden con las de posesión de los servidores, con lo cual se evidencia que no se está cumpliendo a cabalidad las responsabilidades establecidas en el artículo 2.2.17.7 del Decreto 1083 de 2015 •De los 116 contratistas se observó que 38 no figuran en el catálogo, 32 que no registran Fecha de Aprobación de la Hoja de Vida y 39 que tienen la fecha que no corresponde al inicio del contrato de la vigencia 2021, con lo cual se evidencia que no se está dando cumplimiento a cabalidad las responsabilidades establecidas en el artículo 2.2.17.7 del Decreto 1083 de 2015 Datos personales de servidores públicos y contratistas por entidad •De los 116 contratistas, se evidencio que al realizar el cruce por número de identificación 40 no figuran en el catálogo, por lo tanto la información es incompleta, con lo cual se evidencia que no están dando cumplimiento a cabalidad las responsabilidades establecidas en el artículo 2.2.17.7 del Decreto 1083 de 2015 •Así mismo, se presentan inconsistencias en la información que genera el reporte como es el caso de Contratistas que según los registros figuran como “Vinculados a cargo de planta”, como es el caso de Claudia Quintero Franklin y Julio Cesar García Triana, también se apreció que todos los contratistas figuran que “no tiene Contrato asignado en la entidad”, con lo cual se evidencia la falta de control por parte de quien tiene asignado el rol de Operador de Contratos. *Contratos finalizados x fecregis y pendiente fin Se observó que solo tiene un registro para la vigencia 2021 y que aún figura en estado activo – Carolina Escarraga, sin que se hubiese hecho el registro de los 115 contratistas restantes *Educación formal de los servidores públicos vinculados y contratistas con contrato activo en la entidad: De los 116 contratistas se observó que tan solo figura el registro de Carolina Escarraga Trejos, con ello evidenciándose que 115 contratistas no reportan la información requerida, sin que esto haya sido evidenciado por quien tiene asignado el rol de administrador de entidades, con ello, estableciéndose el incumplimiento al artículo 2.2.17.7 del Decreto 1083 de 2015 | C29: 2 | F29: 2
A30: INFORME DE SEGUIMIENTO Y EVALUACION AL TRATAMIENTO DE LAS PETICIONES, QUEJAS, RECLAMOS, SOLICITUDES Y DENUNCIAS RECIBIDAS EN EL PERIODO COMPRENDIDO ENTRE EL 1 DE ENERO AL 30 DE JUNIO | B30: 3 | C30: 8 | E30: 1 | F30: 12
A31: PQRSD vencidas Se encontró que 78 PQRSD de las 601 radicadas en la DNBC, al revisar la base de datos del GAU y ORFEO, se vencieron sin que se les haya dado el correspondiente trámite, dentro del término legal ni por fuera de él, lo que evidencia debilidades en los controles de los servidores y/o contratistas responsables de dar respuesta; siendo el monitoreo de GAU, para determinar el número de días, pasados del plazo legal con ello incumpliéndose lo establecido en el Artículo 23 de la Constitución Política, los términos señalado en el artículo 14 de la Ley 1755 de 2015, el Numeral 5.7 del Procedimiento de Recepción, Distribución, Seguimiento y Salida de Peticiones, Quejas, Reclamos, Sugerencias y Denuncias | C31: 1 | F31: 1
A32: “LINEAMIENTOS GENERALES PARA LA ATENCIÓN DE PETICIONES, QUEJAS, RECLAMOS, SUGERENCIAS Y DENUNCIAS” en el ítem Controles que establece: • “Oficina de Control Disciplinario Interno: Las entidades deben organizar una oficina, que se encargue de adelantar los procesos disciplinarios en contra de sus servidores públicos. Se evidenció que la Oficina de Control Interno Disciplinario no ha dado cumplimiento a lo establecido en la Guía Estrategias para la Construcción del PAAC en cuanto a “adelantar las investigaciones en caso de: (i) incumplimiento a la Respuesta de peticiones, quejas, sugerencias y reclamos en los términos contemplados en la ley y (ii) quejas contra los servidores públicos de la entidad.” Generadas durante el I semestre de 2022 | B32: 1 | F32: 1
A33: Actividades del jefe Funciones del jefe de la dependencia encargada de las PQRSD, determinadas en el Artículo 9 del Decreto 2232 de 1995 - Coordinar actividades con el jefe de la unidad de control interno y con el jefe de la unidad de planeación, para el mejoramiento continuo de la gestión de la entidad. - Coordinar actividades con los jefes de unidad de quejas y reclamos de la entidad superior y de las demás entidades del área a que pertenece la entidad para lograr eficiencia y eficacia del sistema En seguimiento al verificar los aspectos relacionados no hay evidencia de coordinación de actividades con el jefe de la unidad, el de control interno y con el jefe de la unidad de planeación, que permita el mejoramiento de la gestión. Así mismo, no se tiene soporte de coordinación de actividades con los jefes de las demás unidades de quejas y reclamos del sector. | C33: 2 | F33: 2
A34: Anexo 2 de la Resolución MinTIC 1519 del 2020 Estándares de publicación y divulgación información. 2.4.3 Atención y Servicios a la Ciudadanía. Formulario PQRSD En seguimiento al link https://dnbc.gov.co/atencion-al-ciudadano/peticiones-quejas-reclamos-sugerencias-y-denuncias, se pudo verificar el formulario de PQRSD, al cual se puede acceder de forma autónoma e independiente; no obstante ello, se establecieron debilidades en cuanto a condiciones técnicas como: El sistema no genera un mensaje de confirmación de recibido indicando fecha y hora de recepción, no obstante si informar el número de radicado; así mismo, el formulario no cuenta con la validación de datos que le permita al ciudadano visibilizar si existe errores en el diligenciamiento, o si le falta incluir alguna información, toda vez que este aviso de error debe ser visible y accesible para todos los usuarios; tampoco se observa el mensaje de falla en el sistema que indique el motivo y la opción con la que cuenta el usuario para hacer nuevamente su solicitud. Así mismo, se debe facilitar al ciudadano las condiciones de acceso a la información, por lo cual la Entidad en el tema que nos ocupa debe publicar los procedimientos o lineamientos para la recepción, radicación, trámite y remisión de respuesta, mecanismos de consulta del estado de las PQRSD | B34: 2 | F34: 2
A35: Informe de que trata el artículo 54 de la Ley 190/95, el cual debe ser presentado con una periodicidad mínima trimestral, al jefe o director de la entidad, el cual debe dar cuenta de: 1. Servicios sobre los que se presente el mayor número de quejas y reclamos, y 2. Principales Recomendaciones sugeridas por los particulares que tengan por objeto mejorar el servicio que preste la entidad, racionalizar el empleo de los recursos disponibles y hacer más participativa la gestión pública(respecto de este último aspecto no se radicaron sugerencias en el semestre). En revisión de los informes mensuales de las PQRSD, se pudo establecer que en el mes de abril no obstante referir en el acápite 6 Evolución de las PQRSD, se estableció que para ese mes no se registraron quejas ni denuncias, pero en el mismo informe, en el acápite 11. Temas de consulta reiterativa se toma el texto de todos los informes, se establece: El 5.56% (4) de las peticiones son quejas por irregularidades en la actuación de diferentes Cuerpos de Bomberos, ante lo cual se les indica el conducto regular que trae la Resolución 1127 de 2018 “Por medio de la cual se modifican algunos artículos del Reglamento Administrativo, Operativo, Técnico y Académico de los Bomberos de Colombia, adoptado por la Resolución 661 de 2014”, el Decreto 953 de 1997 “Por el cual se dicta el Reglamento de Disciplina para el Personal de los Cuerpos de Bomberos” y la demás legislación a la que hubiere lugar, o quejas presentadas por los diferentes Cuerpos de Bomberos por el incumplimiento de las administraciones municipales en el giro de los recursos de sobretasa bomberil. Así mismo, en el informe de junio se informa que se recibieron 3 quejas, pero no se indica a que servicios hacen referencia, sino que se limitan en el informe, a citar el mismo párrafo de la Resolución 1127 de 2018, el cual se repite en todos los informes, sin especificar sobre qué servicio se presentan las quejas y a que dependencia hace referencia, lo cual va a permitir la toma de decisiones. Durante el I semestre de 2022, no se registra radicados de sugerencias | C35: 1 | F35: 1
A36: Informes de solicitudes de accesos a información Artículo 2.1.1.6.2 del Decreto 1081 de 2015, por medio del cual se establece que los sujetos obligados deberán publicar los informes de todas las solicitudes, denuncias y los tiempos de respuestas Del ejercicio de Control Interno de discriminar por áreas las solicitudes asignadas, se observan inexactitudes en la información, toda vez que se relaciona que la Dirección tuvo un total de 72 radicados, pero es que se le están sumando 45 radicados que por estructura no le corresponden ya que CITEL, no hace parte de ella. Así mismo, Comunicaciones también aparece en la relación de la Subdirección Administrativa y Financiera y en la Dirección General; e Infraestructura Nacional de Bomberos también se relaciona en la Subdirección Administrativa y Financiera y en la Subdirección Estratégica y de Coordinación Bomberil; con ello, generando incertidumbre en la información de las estadísticas presentadas en el informe. | C36: 1 | F36: 1
A37: Ley 1721 de 2014 Artículo 26. Respuesta a solicitud de acceso a información. Es aquel acto escrito mediante el cual, de forma oportuna, veraz, completa, motivada y actualizada, todo sujeto obligado responde materialmente a cualquier persona que presente una solicitud de acceso a información pública. Su respuesta se dará en los términos establecidos. La respuesta a la solicitud deberá ser gratuita o sujeta a un costo que no supere el valor de la reproducción y envío de la misma al solicitante. Se preferirá, cuando sea posible, según los sujetos pasivo y activo, la respuesta por vía electrónica, con el consentimiento del solicitante. En los radicados: 20221140123852* 20221140126582* 20221140148462* y 20221140150942, la Entidad deja constancia que el trámite a la solicitud fue a través de comunicación telefónica, de la cual además no se dejó constancia, siendo este incumplimiento otro motivo por el cual en el presente seguimiento no se pueda hacer seguimiento a la respuesta | C37: 1 | F37: 1
A38: Radicación respuesta en el aplicativo ORFEO, Numeral 8 del Procedimiento de recepción, distribución, seguimiento y salida de PQRSD En los radicados: 20221140123872*20221140125432*20221000126742*20221140127522*20221140128212*20221140128372*20221140128602*20229000128932*20221140129192*20221140129912*20221140129962*20221140130592*20229000130612*20221140130752*20221140130892*20221000131532*20221000132232*20221140132972*20221140133662*20221140134732*20221140137652*20221140139462*20221140140342*20221140140502*20221140142212*20221140143112*20221140148072*20221140150132*20221140150832*20221140151382*20221140151692*20221140151722*20221140152712*20221140154142*20221140154402 20221140154652*20221140154662*20221140155682*20221140157302*20221140159032 20221140159522; no se dejó evidencia de imagen de respuesta para determinar si hubo una pronta resolución, y si esta fue completa y de fondo, ya que en algunos casos se pudo determinar que los funcionarios encargados remiten la respuesta desde su correo, en otros sacan un radicado de salida, pero no se deja evidencia de imagen de respuesta, ni constancia de entrega al interesado, no se cierra la PQRSD y ni se procede a su archivo físico y digital. | E38: 1 | F38: 1
A39: Términos para resolver las distintas modalidades de peticiones. Parágrafo Artículo 14 de la Ley 1755 de 2015 “Cuando excepcionalmente no fuere posible resolver la petición en los plazos aquí señalados, la autoridad debe informar esta circunstancia al interesado, antes del vencimiento del término señalado en la ley expresando los motivos de la demora y señalando a la vez el plazo razonable en que se resolverá o dará respuesta, que no podrá exceder del doble del inicialmente previsto” | C39: 1 | F39: 1
A40: Una vez radicada la respuesta en el aplicativo ORFEO, la misma, debe ser firmada por el responsable del proceso según corresponda, en esa medida el responsable de firmar la respuesta deberá revisar la consistencia de la información que se entrega al usuario.El responsable de firmar deberá percatarse que el documento cuente con el visto bueno de quien proyecta y de quien revisa; para esto, el documento deberá contener en letra legible al finalizar el documento el nombre de quien proyectó, de quien revisóy de quien finalmente aprobó. En los radicados: 20221140123852* En los radicados: 221140125232*20221140134572*20221140146582*20229000127002*2022100012702220221140127952*20221140128092*20221140133992*20221140134872*2022114013540220221140135542*20221140140472*20221140152092*20221140156252*20221140151812, se encontraron documentos de respuesta sin firma y sin evidencia de envió, lo cual genera incertidumbre de si efectivamente el peticionario recibió pronta respuesta. | C40: 1 | F40: 1
A41: Informe Seguimiento Ley 1712 de 2014- Ley de Transparencia y del derecho de acceso a la información pública nacional". | B41: 3 | C41: 5 | E41: 1 | F41: 9
...

Sheet Hoja2
A1: TIPO DE AUDITORIA | B1: Auditoría interna
A2: VIGENCIA | B2: (Todas)
A4: Cuenta de DEPENDENCIA | B4: Etiquetas de columna
A5: Etiquetas de fila | B5: CUMPLIDO | C5: EJECUCIÓN | D5: PENDIENTE DE REVISIÓN | E5: VENCIDO | F5: Total general
A6: Auditoría al sistema de Gestión en Seguridad y Salud en el Trabajo | C6: 2 | F6: 2
A7: Auditoria anual control interno contable 2023 | B7: 19 | C7: 29 | D7: 1 | E7: 2 | F7: 51
A8: Auditoría Gestión Contractual | C8: 1 | E8: 2 | F8: 3
A9: Auditoria Interna al Proceso Educación Nacional para Bomberos | B9: 10 | C9: 3 | E9: 3 | F9: 16
A10: Auditoria Interna al Sistema de Gestión en Seguridad y Salud en el Trabajo 2021 | C10: 2 | E10: 1 | F10: 3
A11: Auditoria Interna al Sistema de Gestión en Seguridad y Salud en el Trabajo 2022 | B11: 1 | C11: 3 | E11: 3 | F11: 7 | H11: siete hallazgos replicados en el análisis
A12: Auditoria Interna al Sistema de Gestión en Seguridad y Salud en el Trabajo vigencia 2020 | C12: 2 | F12: 2
A13: Decreto 491 de 2020 | C13: 1 | F13: 1
A14: Evaluación Control Interno Contable de la vigencia 2020 | B14: 7 | C14: 6 | F14: 13
A15: Gestión Administrativa | C15: 3 | F15: 3
A16: Informe Auditoria Proceso Gestión Contractual - Vigencia 2022 | B16: 2 | C16: 38 | E16: 2 | F16: 42
A17: Informe de Auditoría al proceso Coordinación Operativa | B17: 1 | C17: 2 | F17: 3
A18: Informe de Auditoría al proceso Gestión Documental | C18: 12 | F18: 12
A19: Informe de Austeridad en el Gasto IV Trimestre de 2020. | B19: 1 | C19: 2 | E19: 1 | F19: 4
A20: Informe de Control Interno Contable vigencia 2024 | B20: 11 | C20: 15 | F20: 26
A21: Informe de seguimento Austeridad III trimestre de 2020 | B21: 1 | F21: 1
A22: INFORME DE SEGUIMIENTO DEL ESTADO ACTUAL DE LA INFORMACIÓN REGISTRADA POR LA DIRECCIÓN NACIONAL DE BOMBEROS, EN EL SISTEMA DE INFORMACIÓN Y GESTIÓN DEL EMPLEO PÚBLICO (SIGEPII) | C22: 9 | F22: 9
A23: INFORME DE SEGUIMIENTO Y EVALUACION AL TRATAMIENTO DE LAS PETICIONES, QUEJAS, RECLAMOS, SOLICITUDES Y DENUNCIAS RECIBIDAS EN EL PERIODO COMPRENDIDO ENTRE EL 1 DE ENERO AL 30 DE JUNIO DE 2023 | B23: 2 | C23: 5 | F23: 7
A24: INFORME DE SEGUIMIENTO Y EVALUACION AL TRATAMIENTO DE LAS PETICIONES, QUEJAS, RECLAMOS, SOLICITUDES Y DENUNCIAS RECIBIDAS EN EL PERIODO COMPRENDIDO ENTRE EL 1 DE JULIO AL 31 DE DICIEMBRE DE 2023 | B24: 4 | C24: 6 | F24: 10
A25: Informe detallado de seguimiento y evaluación al tratamiento de las peticiones, quejas, reclamos, solicitudes y denuncias recibidas en el periodo comprendido entre el 1 de enero y el 30 de junio de 2021 | B25: 2 | E25: 1 | F25: 3
